BEGIN:VCALENDAR
VERSION:2.0
PRODID:-//Patriot Guard Riders - ECPv5.3.2.1//NONSGML v1.0//EN
CALSCALE:GREGORIAN
METHOD:PUBLISH
X-WR-CALNAME:Patriot Guard Riders
X-ORIGINAL-URL:https://www.patriotguard.org
X-WR-CALDESC:Events for Patriot Guard Riders
BEGIN:VTIMEZONE
TZID:America/New_York
BEGIN:DAYLIGHT
TZOFFSETFROM:-0500
TZOFFSETTO:-0400
TZNAME:EDT
DTSTART:20190310T070000
END:DAYLIGHT
BEGIN:STANDARD
TZOFFSETFROM:-0400
TZOFFSETTO:-0500
TZNAME:EST
DTSTART:20191103T060000
END:STANDARD
END:VTIMEZONE
BEGIN:VEVENT
DTSTART;VALUE=DATE:20190906
DTEND;VALUE=DATE:20190907
DTSTAMP:20210401T012734
CREATED:20190831T205802Z
LAST-MODIFIED:20190831T205802Z
UID:172415-1567728000-1567814399@www.patriotguard.org
SUMMARY:Miles Nathaniel Mathews\, Jr.
DESCRIPTION:Honor Mission\n\nMiles Nathaniel Mathews\, Jr. \, Retired\nUSAF –\nPensacola\, Florida – 09-06-19\n\n\n Source: \n\nABOUT THE MISSION: \nThe family of CMSgt Miles N Mathews Jr\, Unites States Air Force\, has graciously invited the Patriot Guard to escort Chief Mathews to Barrancas National Cemetery\, and stand a silent flag line during Military Honors. CMSgt Mathews was 92 years of age and honorably served for over 24 years in the United States Air Force before being medically retired on 30 June 1970.\n\n\nPRIMARY STAGING DETAILS: 09-06-19 \nStaging Time: 10:45  \nWhataburger\, 417 E Gregory St\nPensacola\, Florida\n\n\nRide Captain: \nTommy Harris\, 251-504-4449\, airborne@gulftel.com\n\n\nSpecial Instructions: \nThe Naval Air Station requires long sleeve shirts\, long trousers\, long fingered gloves\, DOT approved helmets\, leather footwear covering the ankles\, and appropriate eye protection. This attire will always be worn while riding aboard the base.\n1130 – Briefing for all riders\n1145 – KSU to Mt. Olive Baptist Church\, 500 N Davis St\, Pensacola Fl\n1230 – Roll time to Barrancas with escort\n1300 – Interment at Barrancas National Cemetery – Site “A”\n\n\nFlags & Water:\nFlags will be provided\nIf you have large bike flags\, please bring them.\nWater will be provided.\n\n\nSubmitted By: Ray Doyle \nPosition: Florida Assistant State Captain \n\nNote: You do not have to own/ride a motorcycle or be a veteran to join\, and membership is Free. The only requirement is RESPECT! To subscribe to receive mission notices\, log into the National Site and click on the Members tab at the top. Select the Subscribe to PGR Missions option.\n Print This Page
URL:https://www.patriotguard.org/mission/miles-nathaniel-mathews-jr/
CATEGORIES:Honor Mission
END:VEVENT
END:VCALENDAR