BEGIN:VCALENDAR
VERSION:2.0
PRODID:-//Patriot Guard Riders - ECPv5.6.0//NONSGML v1.0//EN
CALSCALE:GREGORIAN
METHOD:PUBLISH
X-WR-CALNAME:Patriot Guard Riders
X-ORIGINAL-URL:https://www.patriotguard.org
X-WR-CALDESC:Events for Patriot Guard Riders
BEGIN:VTIMEZONE
TZID:America/New_York
BEGIN:DAYLIGHT
TZOFFSETFROM:-0500
TZOFFSETTO:-0400
TZNAME:EDT
DTSTART:20160313T070000
END:DAYLIGHT
BEGIN:STANDARD
TZOFFSETFROM:-0400
TZOFFSETTO:-0500
TZNAME:EST
DTSTART:20161106T060000
END:STANDARD
END:VTIMEZONE
BEGIN:VEVENT
DTSTART;TZID=America/New_York:20160821T090000
DTEND;TZID=America/New_York:20160821T110000
DTSTAMP:20210511T201324
CREATED:20160821T130000Z
LAST-MODIFIED:20191201T143439Z
UID:409776-1471770000-1471777200@www.patriotguard.org
SUMMARY:Mike Melon
DESCRIPTION:All missions are hard missions\, hard on the families\, hard on the friends and yes\, hard on the ones who stand and see the hurt and grieving process so often.  That being said this will be a hard mission\, even harder than most.  When you know that the person taken before their time was a good person\, a person who was doing for others even while fighting the fight themselves\, it’s hard.  When you know that person only a couple of months ago\, left the flag line sick to the point of retching from the chemo he was taking\, but was still there at the mission\, it’s hard. \nIt is my sad duty to tell you that our brother and fellow Patriot Guard Rider\, Mike Melon has gone on to claim his reward and is healed from that dreaded disease called cancer.  His wife has requested that we stand for him as he has stood with us\, for so many. Our only answer can be a resounding YES! \nMike Melon graduated from the New Orleans Baptist Theological Seminary\, was a missionary in Paraguay and Greece\, and pastored churches in Maine and New Orleans\, that one during hurricane Katrina!  Mike also taught at the New Orleans Baptist Theological Seminary\, where he has earned his Doctorate in Theology. “Rev” as many of us knew him also pastored the Bare Bones Biker Church\, was PGR member\, a friend\, a biker and a good man! \nMission Details:  Sunday\, 21 August 2016 \nStaging:                Fred A Symmes Chapel\n100 YMCA Camp Rd. Cleveland\,  SC 29635\nMap:  https://goo.gl/maps/PHwbWezLDAD2 \nAssemble:           11:45 AM/1145\nBrief:                  12:00 PM/1200\nFlag Line:             12:15 PM/1215 \nExecution:  We will stand up the flag line immediately following the briefing for the arrival of the family and friends.  Once the family is seated\, we will stand the flag line down. \nCaution:  YMCA   Camp Rd is in the process of being re-topped and has loose gravel on it.  Due to this and the threat of inclement weather great care should be taken and consideration of caging to this mission. \nNote:  Due to the proximity of the open air Chapel to the parking area\, please do not attend this mission if you can not remain for the service – cranking the bikes would be a disruption to the service. \nIt will be my honor to serve as RCIC for this mission\nJ. R. ‘Wingman’ Smith\n864-373-3791\njrsmith59@hotmail.com
URL:https://www.patriotguard.org/mission/mike-melon/
CATEGORIES:Archive
END:VEVENT
END:VCALENDAR