BEGIN:VCALENDAR
VERSION:2.0
PRODID:-//Patriot Guard Riders - ECPv5.3.2.1//NONSGML v1.0//EN
CALSCALE:GREGORIAN
METHOD:PUBLISH
X-WR-CALNAME:Patriot Guard Riders
X-ORIGINAL-URL:https://www.patriotguard.org
X-WR-CALDESC:Events for Patriot Guard Riders
BEGIN:VTIMEZONE
TZID:America/New_York
BEGIN:DAYLIGHT
TZOFFSETFROM:-0500
TZOFFSETTO:-0400
TZNAME:EDT
DTSTART:20170312T070000
END:DAYLIGHT
BEGIN:STANDARD
TZOFFSETFROM:-0400
TZOFFSETTO:-0500
TZNAME:EST
DTSTART:20171105T060000
END:STANDARD
END:VTIMEZONE
BEGIN:VEVENT
DTSTART;TZID=America/New_York:20170425T114500
DTEND;TZID=America/New_York:20170425T134500
DTSTAMP:20210403T080954
CREATED:20170425T154500Z
LAST-MODIFIED:20191201T030810Z
UID:312586-1493120700-1493127900@www.patriotguard.org
SUMMARY:Miguel Q. Chavez \, Veteran\, USN
DESCRIPTION:Miguel Q. Chavez\, Veteran \nUSN \nDenver\, Colorado – 25 Apr 2017\n\n[HR][/HR]\nABOUT THE MISSION: \nThe Patriot Guard Riders have been invited to stand in honor at the Interment Service for Miguel Q. Chavez on Tuesday\, April 25\, 2017 at Fort Logan National Cemetery\, 3698 South Sheridan Blvd.\, Denver at 12:30PM\, Committal Shelter B. \nMr. Chavez was born on May 02\, 1934 and died on April 15\, 2017 at the age of 82. He served in the US Navy from 1959 until 1963. \n11:45 AM – Stage at Fort Logan National Cemetery Visitors Center\nNOON – Mission Briefing\n12:15 PM– Depart for Committal Shelter*B to form Flag Line \nWill an available Ride Captain please post. \nFlags will be needed for this Interment Service. \nPRIMARY STAGING DETAILS: 25 Apr 2017 \n \nPrimary Staging Time: 11:45 A.M.\n\nFort Logan Visitors Center\n\nDenver\, Colorado – 80236\n\n\n\n \n \nRide Captain:\n\nRC To Be Determined\n\n \n \nSpecial Instructions:\n\n\n\n \n \nFlags & Water:\n\nFlags Will Be Provided\n\nLarge Bike Flags will NOT be needed.\n\nWater will be provided.\n\nSubmitted By: Jim Herstein\nPosition: State HOTH Coordinator \n[HR][/HR]\nNote:\nYou do not have to own/ride a motorcycle or be a Veteran to join and membership is Free. The only requirement is RESPECT! To join\, simply go to www.PatriotGuard.org and click on Register. Membership is Free. \nTo subscribe to receive mission notices\, log into the National Site and click on the Mission Tab at the top. Select Upcoming Missions by State. Scroll to the state(s) you would like to receive notices for and click on the green check mark. Detailed instructions are also located in the FAQs on the site by clicking on the Quick Links Tab and selecting FAQs.
URL:https://www.patriotguard.org/mission/miguel-q-chavez-veteran-usn/
LOCATION:Lewis G Smith
END:VEVENT
END:VCALENDAR