BEGIN:VCALENDAR
VERSION:2.0
PRODID:-//Patriot Guard Riders - ECPv5.3.2.1//NONSGML v1.0//EN
CALSCALE:GREGORIAN
METHOD:PUBLISH
X-WR-CALNAME:Patriot Guard Riders
X-ORIGINAL-URL:https://www.patriotguard.org
X-WR-CALDESC:Events for Patriot Guard Riders
BEGIN:VTIMEZONE
TZID:America/New_York
BEGIN:DAYLIGHT
TZOFFSETFROM:-0500
TZOFFSETTO:-0400
TZNAME:EDT
DTSTART:20190310T070000
END:DAYLIGHT
BEGIN:STANDARD
TZOFFSETFROM:-0400
TZOFFSETTO:-0500
TZNAME:EST
DTSTART:20191103T060000
END:STANDARD
END:VTIMEZONE
BEGIN:VEVENT
DTSTART;VALUE=DATE:20190530
DTEND;VALUE=DATE:20190531
DTSTAMP:20210405T023326
CREATED:20190528T192558Z
LAST-MODIFIED:20190528T200011Z
UID:162716-1559174400-1559260799@www.patriotguard.org
SUMMARY:Mickey T. Bost\, SR.
DESCRIPTION:Honor Mission\nMickey T. Bost\, Sr.\, Retired\, PGR\nUSA – Vietnam\, GW/ODS\nMidland City\, Alabama – 05-30-19\n\n\n\n\nABOUT THE MISSION: \nMr. Bost was born on August 10\, 1952 in Concord\, North Carolina where he spent the earlier years of his life. He joined the U.S. Army and served in the Vietnam War and Desert Storm. He retired in 1992 with 20 years of military service.\nIn 1999\, he was employed with DynCorp and then AFS until he retired in 2017.\nMr. Bost loved to watch Nascar\, he especially enjoyed attending races in Talladega. Mr. Bost loved his dogs Daisy Mae\, Buddy\, Molly\, and Layla. He also enjoyed riding his motorcycle to the beach\, participating in poker runs\, traveling\, and fishing at Lake Eufaula on weekends.\nMr. Bost was a member of the Patriot Guard Riders and enjoyed driving his Corvette and his Bumble Bee Truck.\nMr. Bost loved his family and especially loved spending time with his kids.\n\n\nPRIMARY STAGING DETAILS: 05-30-19 \nStaging Time: 9:45 am\n \nSunset Memorial Park\nMidland City\, Alabama 36302\nMap\n\n\nRide Captain: \nMr Wizzard\nwizzard45@hotmail.com\n\n\nSpecial Instructions: \n\n\nFlags & Water:\nFlags will be provided\nLarge Bike Flags will NOT be needed.\nWater will be provided.\n\n\n\nSubmitted By: Howard Swain \nPosition: Alabama Assistant State Captain \n\nNote: You do not have to own/ride a motorcycle or be a veteran to join\, and membership is Free. The only requirement is RESPECT! To subscribe to receive mission notices\, log into the National Site and click on the Members tab at the top. Select the Subscribe to PGR Missions option.\n Print This Page
URL:https://www.patriotguard.org/mission/mickey-t-bost-sr/
CATEGORIES:Honor Mission
END:VEVENT
END:VCALENDAR