BEGIN:VCALENDAR
VERSION:2.0
PRODID:-//Patriot Guard Riders - ECPv5.3.2.1//NONSGML v1.0//EN
CALSCALE:GREGORIAN
METHOD:PUBLISH
X-WR-CALNAME:Patriot Guard Riders
X-ORIGINAL-URL:https://www.patriotguard.org
X-WR-CALDESC:Events for Patriot Guard Riders
BEGIN:VTIMEZONE
TZID:America/New_York
BEGIN:DAYLIGHT
TZOFFSETFROM:-0500
TZOFFSETTO:-0400
TZNAME:EDT
DTSTART:20210314T070000
END:DAYLIGHT
BEGIN:STANDARD
TZOFFSETFROM:-0400
TZOFFSETTO:-0500
TZNAME:EST
DTSTART:20211107T060000
END:STANDARD
END:VTIMEZONE
BEGIN:VEVENT
DTSTART;VALUE=DATE:20210401
DTEND;VALUE=DATE:20210402
DTSTAMP:20210402T044803
CREATED:20210330T134413Z
LAST-MODIFIED:20210330T134413Z
UID:573360-1617235200-1617321599@www.patriotguard.org
SUMMARY:Michial M. Thompson
DESCRIPTION:Honor Mission\nMichial M. Thompson\, Veteran\nUSMC –\nAugusta\, Michigan – 04-01-21\n\n\n\nABOUT THE MISSION: \nThe Patriot Guard Riders have been invited to stand a Flag line in Honor of Michial Thompson and his service to our Country. It will be an Honor to stand for Michial as his family.\n\n\nPRIMARY STAGING DETAILS: 04-01-21 \nStaging Time: 10:15 AM\n \nFort Custer National Cemetery\n15501 Dickman Rd\nAugusta\, Michigan 49021\n\n\nRide Captain: \nGig\n(517) 462-8143\n\n\nSpecial Instructions: \nBriefing: 10:20 am\nFlagline: Following Briefing 10:30 and 11:00 am Services.\nWe will Stage just past the restrooms on the main entrance Dr.\nDO NOT go back to directly the committal shelter.\nMasks and Social distancing is required.\n\n\nFlags & Water:\nFlags will be provided\nLarge Bike Flags will NOT be needed.\nWater WILL NOT be provided\, please bring your own.\n\n\nSubmitted By: Alan Niemeyer \nPosition: Michigan State Captain \n\nNote: You do not have to own/ride a motorcycle or be a veteran to join\, and membership is Free. The only requirement is RESPECT! To subscribe to receive mission notices\, log into the National Site and click on the Members tab at the top. Select the Subscribe to PGR Missions option.\n Print This Page
URL:https://www.patriotguard.org/mission/michial-m-thompson/
CATEGORIES:Honor Mission
END:VEVENT
END:VCALENDAR