BEGIN:VCALENDAR
VERSION:2.0
PRODID:-//Patriot Guard Riders - ECPv5.3.2.1//NONSGML v1.0//EN
CALSCALE:GREGORIAN
METHOD:PUBLISH
X-WR-CALNAME:Patriot Guard Riders
X-ORIGINAL-URL:https://www.patriotguard.org
X-WR-CALDESC:Events for Patriot Guard Riders
BEGIN:VTIMEZONE
TZID:America/New_York
BEGIN:DAYLIGHT
TZOFFSETFROM:-0500
TZOFFSETTO:-0400
TZNAME:EDT
DTSTART:20190310T070000
END:DAYLIGHT
BEGIN:STANDARD
TZOFFSETFROM:-0400
TZOFFSETTO:-0500
TZNAME:EST
DTSTART:20191103T060000
END:STANDARD
END:VTIMEZONE
BEGIN:VEVENT
DTSTART;VALUE=DATE:20190816
DTEND;VALUE=DATE:20190817
DTSTAMP:20210402T115743
CREATED:20190810T142624Z
LAST-MODIFIED:20190810T142719Z
UID:170337-1565913600-1565999999@www.patriotguard.org
SUMMARY:Michael Wayne Farley
DESCRIPTION:Honor Mission\nMichael Wayne Farley\, Veteran\nUSAF –\nNorth Little Rock\, Arkansas – 08-16-19\n\n\n\nABOUT THE MISSION: \nThe Patriot Guard Riders have been asked to stand for Michael Wayne Farley\, 63\, at the ASVC. He was a veteran of the USAF having served 1 year 4 months as an Aircraft Maintenance Specialist. It will be an honor to stand for him.\n\n\nPRIMARY STAGING DETAILS: 08-16-19 \nStaging Time: 12:15 PM\n \nArkansas State Veterans Cemetery\n1501 W. Maryland Ave.\nNorth Little Rock \, Arkansas 72120\nMap\n\n\nRide Captain: \nMartha Mayland\n501-416-1194\nmarthamayland@sbcglobal.net\n\n\nSpecial Instructions: \nStaging: 12:15 pm at circle by columbarium\nBriefing: 12:30 pm\n12:50 pm: Short escort to committal shelter for respect line and flag line for service.\n\n\nFlags & Water:\nFlags will be provided\nLarge Bike Flags will NOT be needed.\nWater will be provided.\n\n\n\nSubmitted By: Martha Mayland \nPosition: Arkansas Ride Captain \n\nNote: You do not have to own/ride a motorcycle or be a veteran to join\, and membership is Free. The only requirement is RESPECT! To subscribe to receive mission notices\, log into the National Site and click on the Members tab at the top. Select the Subscribe to PGR Missions option.\n Print This Page
URL:https://www.patriotguard.org/mission/michael-wayne-farley/
CATEGORIES:Honor Mission
END:VEVENT
END:VCALENDAR