BEGIN:VCALENDAR
VERSION:2.0
PRODID:-//Patriot Guard Riders - ECPv5.6.0//NONSGML v1.0//EN
CALSCALE:GREGORIAN
METHOD:PUBLISH
X-WR-CALNAME:Patriot Guard Riders
X-ORIGINAL-URL:https://www.patriotguard.org
X-WR-CALDESC:Events for Patriot Guard Riders
BEGIN:VTIMEZONE
TZID:America/New_York
BEGIN:DAYLIGHT
TZOFFSETFROM:-0500
TZOFFSETTO:-0400
TZNAME:EDT
DTSTART:20160313T070000
END:DAYLIGHT
BEGIN:STANDARD
TZOFFSETFROM:-0400
TZOFFSETTO:-0500
TZNAME:EST
DTSTART:20161106T060000
END:STANDARD
END:VTIMEZONE
BEGIN:VEVENT
DTSTART;TZID=America/New_York:20160621T090000
DTEND;TZID=America/New_York:20160621T110000
DTSTAMP:20210513T180903
CREATED:20160621T130000Z
LAST-MODIFIED:20191201T144915Z
UID:411122-1466499600-1466506800@www.patriotguard.org
SUMMARY:Michael Wayne Davis\, USA
DESCRIPTION:Our presence has been requested by the family for Michael Wayne Davis\, US Army.  Mr. Davis proudly served in the US Army as a Harbor Craft Operator during the Vietnam War.  During his service Mr. Davis earned the National Defense Service Medal\, the Vietnam Service Medal\, and the Vietnam Campaign Medal. \nPlease join us in standing for Mr. Davis as he stood for us. \nObituary: http://www.cavin-cook.com/sitemaker/sites/CAVINC1/memsol.cgi?user_id=1813840 \nDetails are below… \nDate:  Tuesday June 21st\, 2016\nStaging:  5:00 PM\nBriefing:  5:15 PM\nLocation: Cavin-Cook Funeral Home\, 494 East Plaza Drive\, Mooresville\, NC  28115 \nMap to Location:  http://mapq.st/1h3OTkV \nAfter the briefing we will stand a flag line for visitation from 5:30 to 7:30.  When the service begins at 7:30 we will depart quietly. \nRCIC:   Tommy “Broomstick” Wood\ntomtreewood@yahoo.com\n704-500-6175  (cell)
URL:https://www.patriotguard.org/mission/michael-wayne-davis-usa/
CATEGORIES:Archive
END:VEVENT
END:VCALENDAR