BEGIN:VCALENDAR
VERSION:2.0
PRODID:-//Patriot Guard Riders - ECPv5.3.2.1//NONSGML v1.0//EN
CALSCALE:GREGORIAN
METHOD:PUBLISH
X-WR-CALNAME:Patriot Guard Riders
X-ORIGINAL-URL:https://www.patriotguard.org
X-WR-CALDESC:Events for Patriot Guard Riders
BEGIN:VTIMEZONE
TZID:America/New_York
BEGIN:DAYLIGHT
TZOFFSETFROM:-0500
TZOFFSETTO:-0400
TZNAME:EDT
DTSTART:20130310T070000
END:DAYLIGHT
BEGIN:STANDARD
TZOFFSETFROM:-0400
TZOFFSETTO:-0500
TZNAME:EST
DTSTART:20131103T060000
END:STANDARD
END:VTIMEZONE
BEGIN:VEVENT
DTSTART;TZID=America/New_York:20130914T090000
DTEND;TZID=America/New_York:20130914T110000
DTSTAMP:20210402T034007
CREATED:20130914T130000Z
LAST-MODIFIED:20191201T115412Z
UID:384295-1379149200-1379156400@www.patriotguard.org
SUMMARY:Michael Szot\, USMC Veteran /FF
DESCRIPTION:Michael Szot \nUnited States Marine Corps \nFirefighter\, Oxford Fire Department \nWashington\, NJ \n14 SEP 2013 \n \nThe Patriot Guard has been asked to stand in honor for Mr. Michael Szot\, United States Marine Corps veteran\, serving in Hawaii from 1969 until he was honorably discharged in 1971. Mr. Szot also served as a member and President of the Oxford\, New Jersey Fire Department and was employed in the construction industry. \n\nMichael Szot’s Services are scheduled for September 14 beginning at 10:00 a.m. at the Devoe Funeral Home\, 136 West Washington Avenue\, Washington\, New Jersey 07882.  \n \nThis will be a flag line only with no cemetery escort. \n \nThe visitation will start at 10:00 and a service will take place\, starting at 12:00.  There will be no graveside services. We will dismiss at the beginning of the memorial service and QUIETLY leave the area.  \n \nStaging: \nWe will stage at the Washington Diner  \n#6 State Road 31\,  \nWashington\, NJ 07882  \nbeginning at 0830 hrs. \n \nKSU will be at 0920 hrs. It is less than a mile to the funeral home. \n \nFlagline to be in place by 0930 hrs.\n \n \nWeather is predicted at this time to be sunny\, low 50’s at 9AM to mid 60’s by noon. \n \nHere is a link for the Funeral home for additional information http://devoefuneral.com/book-of-memories/1641700/Szot-Michael/index.php \n \nhttp://obitsforlife.com/obituary/746750/Szot-Michael.php \n \nRCIC: Ed Morgan \n          edmorgan@patriotguard.org \n          908-448-1988 \n \nBring your 3X5 flags. Large bike flags will not be needed. \n \nPlease ride safely to and from the mission.
URL:https://www.patriotguard.org/mission/michael-szot-usmc-veteran-ff/
CATEGORIES:Archive
END:VEVENT
END:VCALENDAR