BEGIN:VCALENDAR
VERSION:2.0
PRODID:-//Patriot Guard Riders - ECPv5.6.0//NONSGML v1.0//EN
CALSCALE:GREGORIAN
METHOD:PUBLISH
X-WR-CALNAME:Patriot Guard Riders
X-ORIGINAL-URL:https://www.patriotguard.org
X-WR-CALDESC:Events for Patriot Guard Riders
BEGIN:VTIMEZONE
TZID:America/New_York
BEGIN:DAYLIGHT
TZOFFSETFROM:-0500
TZOFFSETTO:-0400
TZNAME:EDT
DTSTART:20160313T070000
END:DAYLIGHT
BEGIN:STANDARD
TZOFFSETFROM:-0400
TZOFFSETTO:-0500
TZNAME:EST
DTSTART:20161106T060000
END:STANDARD
END:VTIMEZONE
BEGIN:VEVENT
DTSTART;TZID=America/New_York:20160805T090000
DTEND;TZID=America/New_York:20160805T110000
DTSTAMP:20210511T202858
CREATED:20160805T130000Z
LAST-MODIFIED:20191201T143822Z
UID:410124-1470387600-1470394800@www.patriotguard.org
SUMMARY:Michael Stout\, USA
DESCRIPTION:Michael “Butch” Stout\nUS Army Vietnam Veteran\nHapeville\, GA\n05 AUG 16\n\n\n\nThe family of Michael “Butch” Stout has requested the Patriot Guard to honor the life and U.S. Army service of their loved one. We are honored to fulfill that request. \nButch served in the U.S. Army from 1966 – 1968. His service included an 18 month tour in Vietnam. \nSTAGING: 05 AUGUST 2016 1100 (11 AM)\nDonehoo-Lewis Funeral Home\n736 South Central Ave\nHapeville\, GA \nWe will stand a flag line during the funeral service beginning at 1200. \nAt the conclusion of the service we will escort Mr. Stout to his final resting place at College Park Cemetery. \nRCIC:\nJoe “Mack” McGuigan\njowmackusmc@gmail.com\n678-548-1595
URL:https://www.patriotguard.org/mission/michael-stout-usa/
CATEGORIES:Archive
END:VEVENT
END:VCALENDAR