BEGIN:VCALENDAR
VERSION:2.0
PRODID:-//Patriot Guard Riders - ECPv5.6.0//NONSGML v1.0//EN
CALSCALE:GREGORIAN
METHOD:PUBLISH
X-WR-CALNAME:Patriot Guard Riders
X-ORIGINAL-URL:https://www.patriotguard.org
X-WR-CALDESC:Events for Patriot Guard Riders
BEGIN:VTIMEZONE
TZID:America/New_York
BEGIN:DAYLIGHT
TZOFFSETFROM:-0500
TZOFFSETTO:-0400
TZNAME:EDT
DTSTART:20160313T070000
END:DAYLIGHT
BEGIN:STANDARD
TZOFFSETFROM:-0400
TZOFFSETTO:-0500
TZNAME:EST
DTSTART:20161106T060000
END:STANDARD
END:VTIMEZONE
BEGIN:VEVENT
DTSTART;TZID=America/New_York:20160618T090000
DTEND;TZID=America/New_York:20160618T110000
DTSTAMP:20210513T152815
CREATED:20160618T130000Z
LAST-MODIFIED:20191201T145101Z
UID:411281-1466240400-1466247600@www.patriotguard.org
SUMMARY:Michael Shaun O'Brien\, 65\, USN
DESCRIPTION:Michael Shaun O’Brien (65) U S Navy\, The Dalles\, OR – 18/JUN/16 \nLadies and Gentlemen of the Patriot Guard Riders.  The family of Michael Shaun O’Brien\, a Veteran of the United States Navy\, has requested our presence for the interment of his cremated remains. \nMr. O’Brien served from March 1969 until January 1973. His MOS was as a Shipfitter.  He received the National Defense Service Medal\, Vietnam Service Medal and the Republic of Vietnam Campaign Medal. Please join us as we help support his family\, pay our respects\, and honor his service to our nation. \nMission Date:  Saturday 18/June/2016 \nRide Captain:\nRod Runyon\nreckless.1@hotmail.com\n541-993-6413 \nStaging Location:  3 mile Cemetery The Dalles.  Formerly Parklawn.  About 2.5 miles south on 3 mile Road.  Head out Dry Hollow Road.  At first fork go left.  At second fork go right and follow to the cemetery on your right. \nStaging Time: 10:45 – 11:15am\nBriefing: 11:15am\nFlag Line: 11:30am\nService: 12:00pm\nDismissal:  12:30pm  (approximate) \n***Please bring your 3×5 Flags.  There may be a couple extra available.  Temps in low 70’s.  No rain in forecast.
URL:https://www.patriotguard.org/mission/michael-shaun-obrien-65-usn/
CATEGORIES:Archive
END:VEVENT
END:VCALENDAR