BEGIN:VCALENDAR
VERSION:2.0
PRODID:-//Patriot Guard Riders - ECPv5.3.2.1//NONSGML v1.0//EN
CALSCALE:GREGORIAN
METHOD:PUBLISH
X-WR-CALNAME:Patriot Guard Riders
X-ORIGINAL-URL:https://www.patriotguard.org
X-WR-CALDESC:Events for Patriot Guard Riders
BEGIN:VTIMEZONE
TZID:America/New_York
BEGIN:DAYLIGHT
TZOFFSETFROM:-0500
TZOFFSETTO:-0400
TZNAME:EDT
DTSTART:20190310T070000
END:DAYLIGHT
BEGIN:STANDARD
TZOFFSETFROM:-0400
TZOFFSETTO:-0500
TZNAME:EST
DTSTART:20191103T060000
END:STANDARD
END:VTIMEZONE
BEGIN:VEVENT
DTSTART;VALUE=DATE:20190515
DTEND;VALUE=DATE:20190516
DTSTAMP:20210405T231934
CREATED:20190511T155833Z
LAST-MODIFIED:20190511T155833Z
UID:160554-1557878400-1557964799@www.patriotguard.org
SUMMARY:Michael Seelman
DESCRIPTION:Honor Mission\nMichael Seelman\, Veteran\nUSA – Vietnam\nHolly\, Michigan – 05-15-19\n\n\n\nABOUT THE MISSION: \nThe Patriot Guard Riders have been invited by the family of Michael Seelman to stand in honor of his service to our Country. Mr. Seelman served with the Wolfhounds of the 25th Infantry Division in Cu Chi\, Vietnam\, 1968-1969. He was the recipient of a number of Awards and Commendations\, including a Purple Heart\, and a Bronze Star Medal with V/device. In addition\, Mr. Seelman was a retired Michigan State Police Trooper\, retiring out of the St. Ignace Post.\nObituary\n\n\nPRIMARY STAGING DETAILS: 05-15-19 \nStaging Time: 1:15 PM\n \nMcDonald’s\n15187 N. Holly Rd.\nHolly\, Michigan 48442\nMap\n\n\nRide Captain: \nVITO\n(586) 909-6901\n\n\nSpecial Instructions: \nBriefing: 1:50 PM\nKSU: 2:05 PM\nService: 2:30 PM\nPlease bring your 3′ x 5′ American Flag to Stand In Honor of Mr. Seelman’s service to not only our Country\, but to the people of the State of Michigan as well.\n\n\nFlags & Water:\nFlags will not be provided\nLarge Bike Flags will NOT be needed.\nWater WILL NOT be provided\, please bring your own.\n\n\n\nSubmitted By: Terrence Laurencelle \nPosition: Michigan Ride Captain \n\nNote: You do not have to own/ride a motorcycle or be a veteran to join\, and membership is Free. The only requirement is RESPECT! To subscribe to receive mission notices\, log into the National Site and click on the Members tab at the top. Select the Subscribe to PGR Missions option.\n Print This Page
URL:https://www.patriotguard.org/mission/michael-seelman/
CATEGORIES:Honor Mission
END:VEVENT
END:VCALENDAR