BEGIN:VCALENDAR
VERSION:2.0
PRODID:-//Patriot Guard Riders - ECPv5.6.0//NONSGML v1.0//EN
CALSCALE:GREGORIAN
METHOD:PUBLISH
X-WR-CALNAME:Patriot Guard Riders
X-ORIGINAL-URL:https://www.patriotguard.org
X-WR-CALDESC:Events for Patriot Guard Riders
BEGIN:VTIMEZONE
TZID:America/New_York
BEGIN:DAYLIGHT
TZOFFSETFROM:-0500
TZOFFSETTO:-0400
TZNAME:EDT
DTSTART:20160313T070000
END:DAYLIGHT
BEGIN:STANDARD
TZOFFSETFROM:-0400
TZOFFSETTO:-0500
TZNAME:EST
DTSTART:20161106T060000
END:STANDARD
END:VTIMEZONE
BEGIN:VEVENT
DTSTART;TZID=America/New_York:20160617T090000
DTEND;TZID=America/New_York:20160617T110000
DTSTAMP:20210513T151818
CREATED:20160617T130000Z
LAST-MODIFIED:20191201T145107Z
UID:411290-1466154000-1466161200@www.patriotguard.org
SUMMARY:Michael Rettinger\, USAAF
DESCRIPTION:Michael Rettinger\nArmy Air Force WWII Veteran\nBoise\, ID\n17 JUN 16\n\n\n\nPatriot Guard Riders \nThe family of Michael Rettinger has invited us to stand a Flag line to Honor his life and service to his country. \nMichael served in the Army Air Force\, WWII\, 5-31-45 to 12-31-46. He attained the rank of Corporal.   He passed 5-16-2016 at 89 yrs. \nCommittal will be Friday 17-June-2016 at 1000 hrs. at Idaho State Veterans Cemetery\, 10100 Old Horseshoe Bend rd. Boise ID. \nStaging/Briefing:  0900 hrs. Winco parking lot\, NW corner of Old Horseshoe Bend rd. and W. State st. Boise Id. Updates\, Flag up and ride as a group to ISVC.  Please bring 3X5 Flags. \nRCIC:\nDavid Tish\nchapyrotorwings@msn.com\n# 869 5924
URL:https://www.patriotguard.org/mission/michael-rettinger-usaaf/
CATEGORIES:Archive
END:VEVENT
END:VCALENDAR