BEGIN:VCALENDAR
VERSION:2.0
PRODID:-//Patriot Guard Riders - ECPv5.3.2.1//NONSGML v1.0//EN
CALSCALE:GREGORIAN
METHOD:PUBLISH
X-WR-CALNAME:Patriot Guard Riders
X-ORIGINAL-URL:https://www.patriotguard.org
X-WR-CALDESC:Events for Patriot Guard Riders
BEGIN:VTIMEZONE
TZID:America/New_York
BEGIN:DAYLIGHT
TZOFFSETFROM:-0500
TZOFFSETTO:-0400
TZNAME:EDT
DTSTART:20190310T070000
END:DAYLIGHT
BEGIN:STANDARD
TZOFFSETFROM:-0400
TZOFFSETTO:-0500
TZNAME:EST
DTSTART:20191103T060000
END:STANDARD
END:VTIMEZONE
BEGIN:VEVENT
DTSTART;VALUE=DATE:20190528
DTEND;VALUE=DATE:20190529
DTSTAMP:20210405T041655
CREATED:20190525T033811Z
LAST-MODIFIED:20190525T033811Z
UID:162359-1559001600-1559087999@www.patriotguard.org
SUMMARY:Michael Raymond Young
DESCRIPTION:Honor Mission\nMichael Raymond Young\, Veteran\nUSN – GW/ODS\nPensacola\, Florida – 05-28-19\n\n\n\nABOUT THE MISSION: \nThe Patriot Guard has been invited by the family of ET-2 (E-5)\, Michael Raymond Young\, age 55\, United States Navy\, to stand in his honor and escort him to Barrancas National Cemetery. Mr. Young served in the United States Navy for 6 years and was honorably discharged 23 July 1991. He was awarded the National Defense Service Medal\, Southwest Asia Service Medal with Star\, Sea Service Deployment Ribbon (3D award)\, Good Conduct Medal and Navy Efficiency Battle E award.\n\n\nPRIMARY STAGING DETAILS: 05-28-19 \nStaging Time: 11:45 AM\n \nHardee’s\n805 N. Navy Blvd\nPensacola\, Florida\n\n\nRide Captain: \nFreddie Tellis\n850-508-5753\ntellisfn@hotmail.com\n\n\nSpecial Instructions: \nCAUTION: The Naval Air Station requires long sleeve shirts\, long trousers\, long-fingered gloves\, DOT approved helmets\, leather footwear covering the ankles and appropriate eye protection. This attire will be maintained always while riding aboard the base.\n\n12:30 PM – Briefing for all riders\n12:45 PM – KSU to Olive Baptist Church\, Warrington Campus\n                    103  W. Winthrop Ave.\, Pensacola\, Fl.\n1:15 PM   – KSU to Barrancas National Cemetery\n1:30 PM  – Honors at Barrancas National Cemetery Site B\n\n\nFlags & Water:\nFlags will be provided.\nIf you have large bike flags\, please bring them.\nWater will be provided.\n\n\nSubmitted By: Ray Doyle \nPosition: Florida Assistant State Captain \n\nNote: You do not have to own/ride a motorcycle or be a veteran to join\, and membership is Free. The only requirement is RESPECT! To subscribe to receive mission notices\, log into the National Site and click on the Members tab at the top. Select the Subscribe to PGR Missions option.\n Print This Page
URL:https://www.patriotguard.org/mission/michael-raymond-young/
CATEGORIES:Honor Mission
END:VEVENT
END:VCALENDAR