BEGIN:VCALENDAR
VERSION:2.0
PRODID:-//Patriot Guard Riders - ECPv5.6.0//NONSGML v1.0//EN
CALSCALE:GREGORIAN
METHOD:PUBLISH
X-WR-CALNAME:Patriot Guard Riders
X-ORIGINAL-URL:https://www.patriotguard.org
X-WR-CALDESC:Events for Patriot Guard Riders
BEGIN:VTIMEZONE
TZID:America/New_York
BEGIN:DAYLIGHT
TZOFFSETFROM:-0500
TZOFFSETTO:-0400
TZNAME:EDT
DTSTART:20160313T070000
END:DAYLIGHT
BEGIN:STANDARD
TZOFFSETFROM:-0400
TZOFFSETTO:-0500
TZNAME:EST
DTSTART:20161106T060000
END:STANDARD
END:VTIMEZONE
BEGIN:VEVENT
DTSTART;TZID=America/New_York:20160722T090000
DTEND;TZID=America/New_York:20160722T110000
DTSTAMP:20210512T144850
CREATED:20160722T130000Z
LAST-MODIFIED:20191201T144145Z
UID:410437-1469178000-1469185200@www.patriotguard.org
SUMMARY:Michael Powell\, USN Veteran / Florissant
DESCRIPTION:The family of Michael Powell has respectfully requested the Patriot Guard Riders assist with the Memorial Service of their loved one by Standing a Tall and Silent Flag Line of Honor and Respect. \nMr. Powell served his country with Honor in the United States Navy from July 1972 to May 1973\, with a rank of Seaman Recruit and was awarded the National Defense Service Medal.  Post enlistment\, he worked for Ozark Airlines. \nMr. Powell is survived by his twin sister\, two brothers and seven nieces and nephews. \nObituary Link:  http://www.archwaychapel.com/obituaries/Michael-Powell-4/#!/Obituary \nStage:         Friday\, July 22\, 1:00 P.M.\nGrace Bible Church\n1912 Central Parkway\nFlorissant\, MO \nRide Meeting:   1:10 P.M. \nEscort:        Jefferson Barracks National Cemetery. Appointment time:  2:30 \nThis is an escort only mission. \nRide Captain:     Ron “Pete” Peterson\nron.peterson@charter.net\n636.443.9643 \nFlag Support:     Danny Reinbold \nWeather projected to be 81-99* with a 30% chance of rain.  \nThe heat index is estimated to be from 105 to 110.  HYDRATE  HYDRATE  HYDRATE
URL:https://www.patriotguard.org/mission/michael-powell-usn-veteran-florissant/
CATEGORIES:Archive
END:VEVENT
END:VCALENDAR