BEGIN:VCALENDAR
VERSION:2.0
PRODID:-//Patriot Guard Riders - ECPv5.6.0//NONSGML v1.0//EN
CALSCALE:GREGORIAN
METHOD:PUBLISH
X-WR-CALNAME:Patriot Guard Riders
X-ORIGINAL-URL:https://www.patriotguard.org
X-WR-CALDESC:Events for Patriot Guard Riders
BEGIN:VTIMEZONE
TZID:America/New_York
BEGIN:DAYLIGHT
TZOFFSETFROM:-0500
TZOFFSETTO:-0400
TZNAME:EDT
DTSTART:20160313T070000
END:DAYLIGHT
BEGIN:STANDARD
TZOFFSETFROM:-0400
TZOFFSETTO:-0500
TZNAME:EST
DTSTART:20161106T060000
END:STANDARD
END:VTIMEZONE
BEGIN:VEVENT
DTSTART;TZID=America/New_York:20160622T090000
DTEND;TZID=America/New_York:20160622T110000
DTSTAMP:20210513T162542
CREATED:20160622T130000Z
LAST-MODIFIED:20191201T144905Z
UID:411106-1466586000-1466593200@www.patriotguard.org
SUMMARY:Michael Paul Funkhouser\, 69
DESCRIPTION:The family of Michael Paul Funkhouser\, 69\, has specifically requested the Patriot Guard Riders to honor their loved one with a flag line only at his memorial service on Wed. 6-22-16 at 6PM in Bolivar\, MO where honors will be rendered. \nMr. Funkhouser\, of Bolivar\, died Friday in his home. He was born in Youngstown\, Ohio and after graduating high school joined the U.S. Navy. He was in jet aircraft transportation in Meridian\, Miss.\, flying on occasion with John McCain. After serving three years in the Navy\, he joined the U.S. Air Force in San Bernardino\, Calif.\, where he worked as a jet engine mechanic.  He moved to Springfield\, Ore.\, and drove truck for many years. \nSTAGING: 5:00 PM\, Wed. June 22\, 2016\, Elks Lodge #2828 (located behind the Fast & Friendly 1900 block of W. Broadway – across from Meeks Lumber). \nBRIEFING: 5:15 PM\, \nFLAG LINE: Immediately following briefing \nMEMORIAL SERVICE: 6:00 PM\, \nNO ESCORT\, private burial at a later date. \nWEATHER FORECAST: 96 degrees\, hot and sunny; PLEASE HYDRATE \nRIDE CAPTAIN\nJim (Shifter) Richards\n417-399-1594 Cell\n417-777-3277 Home\nsafetyspreaking@gmail.com \nFLAG SUPPORT:\nCindy Arnold\n[URL=”file://localhost/tel/%2528816%2520916-7730″]816 916-7730[/URL]\nzenliness@yahoo.com
URL:https://www.patriotguard.org/mission/michael-paul-funkhouser-69/
CATEGORIES:Archive
END:VEVENT
END:VCALENDAR