BEGIN:VCALENDAR
VERSION:2.0
PRODID:-//Patriot Guard Riders - ECPv5.3.2.1//NONSGML v1.0//EN
CALSCALE:GREGORIAN
METHOD:PUBLISH
X-WR-CALNAME:Patriot Guard Riders
X-ORIGINAL-URL:https://www.patriotguard.org
X-WR-CALDESC:Events for Patriot Guard Riders
BEGIN:VTIMEZONE
TZID:America/New_York
BEGIN:DAYLIGHT
TZOFFSETFROM:-0500
TZOFFSETTO:-0400
TZNAME:EDT
DTSTART:20190310T070000
END:DAYLIGHT
BEGIN:STANDARD
TZOFFSETFROM:-0400
TZOFFSETTO:-0500
TZNAME:EST
DTSTART:20191103T060000
END:STANDARD
END:VTIMEZONE
BEGIN:VEVENT
DTSTART;VALUE=DATE:20190612
DTEND;VALUE=DATE:20190613
DTSTAMP:20210405T073959
CREATED:20190610T233923Z
LAST-MODIFIED:20190610T233923Z
UID:164263-1560297600-1560383999@www.patriotguard.org
SUMMARY:Michael P. Ornelas
DESCRIPTION:Honor Mission\nMichael P. Ornelas\, Veteran\nUSA – Vietnam\nAlbuquerque\, New Mexico – 06-12-19\n\n\n\n\nABOUT THE MISSION: \nThe Patriot Guard Riders have been requested by the family to honor Specialist 4th Class Michael P. Ornelas.\nMichael proudly served his country as a member of the U.S. Army during the Vietnam War.\n\n\nPRIMARY STAGING DETAILS: 06-12-19 \nStaging Time: 11:45 am\n \nStrong Thorne Funeral Home\n1100 Coal Ave SE\nAlbuquerque\, New Mexico 87106\n\n\nRide Captain: \nBilly Crain\nbdcrain50@gmail.com\n505-263-8771\n\n\nSpecial Instructions: \nBriefing:12:15 pm\nEscort:12:30 pm escort to Santa Fe National Cemetery\nFlag Line for 2:15 honor service\nAssisted by: Dan Rambow\, dan48041@yahoo.com – 505-235-8589\n\n\nFlags & Water:\nFlags will be provided\nLarge Bike Flags will NOT be needed.\nWater WILL NOT be provided\, please bring your own.\n\n\n\nSubmitted By: Daniel Rambow \nPosition: New Mexico Ride Captain \n\nNote: You do not have to own/ride a motorcycle or be a veteran to join\, and membership is Free. The only requirement is RESPECT! To subscribe to receive mission notices\, log into the National Site and click on the Members tab at the top. Select the Subscribe to PGR Missions option.\n Print This Page
URL:https://www.patriotguard.org/mission/michael-p-ornelas/
CATEGORIES:Honor Mission
END:VEVENT
END:VCALENDAR