BEGIN:VCALENDAR
VERSION:2.0
PRODID:-//Patriot Guard Riders - ECPv5.3.2.1//NONSGML v1.0//EN
CALSCALE:GREGORIAN
METHOD:PUBLISH
X-WR-CALNAME:Patriot Guard Riders
X-ORIGINAL-URL:https://www.patriotguard.org
X-WR-CALDESC:Events for Patriot Guard Riders
BEGIN:VTIMEZONE
TZID:America/New_York
BEGIN:DAYLIGHT
TZOFFSETFROM:-0500
TZOFFSETTO:-0400
TZNAME:EDT
DTSTART:20190310T070000
END:DAYLIGHT
BEGIN:STANDARD
TZOFFSETFROM:-0400
TZOFFSETTO:-0500
TZNAME:EST
DTSTART:20191103T060000
END:STANDARD
END:VTIMEZONE
BEGIN:VEVENT
DTSTART;VALUE=DATE:20190702
DTEND;VALUE=DATE:20190703
DTSTAMP:20210404T041450
CREATED:20190629T144653Z
LAST-MODIFIED:20190629T144653Z
UID:166241-1562025600-1562111999@www.patriotguard.org
SUMMARY:Michael McDonald
DESCRIPTION:Honor Mission\n\nMichael McDonald\, Veteran\nUSA – GW/ODS\nMexico\, Missouri – 07-02-19\n\n\n\n\nABOUT THE MISSION: \nThe family of Michael McDonald has requested the Patriot Guard Riders to stand a flag line at his visitation and escort his remains to his final resting place.  Michael served in the U.S. Army 1986-1991.  He was honorably discharged as Specialist 4.  He served in Desert Shield/Storm.  He received a Purple Heart\, Army Achievement Medal\, Driver & Mechanic Badge\, Southeast Asia Service Medal\, Kuwait Liberation Medal\, Expert Marksmanship Badge\, Overseas ServiceRibbon\, Army Service Ribbon\, and the Good Conduct Medal.\n\n\nPRIMARY STAGING DETAILS: 07-02-19 \nStaging Time: 10:00 am \nArnold Funeral\n425 South Jefferson Street\nMexico\, Missouri 65265\n\n\nRide Captain: \nBill Weldon\n(573) 253-5918\n\n\nSpecial Instructions: \nVisitation: 11:00 AM – 12:00 PM\nFuneral service:  12 noon.  Escor twill follow immediately after the service.  Burial with military honors at Elmwood cemetery in Mexico MO.\n\nFlags & Water:\nFlags will be provided\nIf you have large bike flags\, please bring them.\nWater will be provided.\n\n\n\n\nSubmitted By: Bill Weldon \nPosition: Missouri Ride Captain \n\nNote: You do not have to own/ride a motorcycle or be a veteran to join\, and membership is Free. The only requirement is RESPECT! To subscribe to receive mission notices\, log into the National Site and click on the Members tab at the top. Select the Subscribe to PGR Missions option.\n Print This Page
URL:https://www.patriotguard.org/mission/michael-mcdonald/
CATEGORIES:Honor Mission
END:VEVENT
END:VCALENDAR