BEGIN:VCALENDAR
VERSION:2.0
PRODID:-//Patriot Guard Riders - ECPv5.3.2.1//NONSGML v1.0//EN
CALSCALE:GREGORIAN
METHOD:PUBLISH
X-WR-CALNAME:Patriot Guard Riders
X-ORIGINAL-URL:https://www.patriotguard.org
X-WR-CALDESC:Events for Patriot Guard Riders
BEGIN:VTIMEZONE
TZID:America/New_York
BEGIN:DAYLIGHT
TZOFFSETFROM:-0500
TZOFFSETTO:-0400
TZNAME:EDT
DTSTART:20150308T070000
END:DAYLIGHT
BEGIN:STANDARD
TZOFFSETFROM:-0400
TZOFFSETTO:-0500
TZNAME:EST
DTSTART:20151101T060000
END:STANDARD
END:VTIMEZONE
BEGIN:VEVENT
DTSTART;TZID=America/New_York:20150117T090000
DTEND;TZID=America/New_York:20150117T110000
DTSTAMP:20210403T024147
CREATED:20150117T140000Z
LAST-MODIFIED:20191201T130613Z
UID:397313-1421485200-1421492400@www.patriotguard.org
SUMMARY:Michael Lee Kennedy
DESCRIPTION:The family of US Navy Veteran\, Michael Lee Kennedy has asked the PGR to stand a Flagline at his Memorial Service\, play taps and present his flag on Saturday 17 January 2015..\nServices will be at the Victory Tabernacle at 720 E .Highway 70\, Durant\, Oklahoma. The Texoma  Honor Guard will do the Military honors. There will be no escort and no graveside service. \nDate: Saturday January 17\, 2015 at 1:00 P.M. \nStaging: 12:00 Noon at Victory Tabernacle\, 720 E. Highway 70\, Durant\, Ok \nMandatory Briefing: 12:15 PM \nFlag Line: 12:30 PM \nWeather:  Mainly Sunny with a mission time temp near 60. \nRCIC: Michael “Smitty” Smith\n405-613-8352\nhdsmitty73@gmail.com
URL:https://www.patriotguard.org/mission/michael-lee-kennedy/
CATEGORIES:Archive
END:VEVENT
END:VCALENDAR