BEGIN:VCALENDAR
VERSION:2.0
PRODID:-//Patriot Guard Riders - ECPv5.3.2.1//NONSGML v1.0//EN
CALSCALE:GREGORIAN
METHOD:PUBLISH
X-WR-CALNAME:Patriot Guard Riders
X-ORIGINAL-URL:https://www.patriotguard.org
X-WR-CALDESC:Events for Patriot Guard Riders
BEGIN:VTIMEZONE
TZID:America/New_York
BEGIN:DAYLIGHT
TZOFFSETFROM:-0500
TZOFFSETTO:-0400
TZNAME:EDT
DTSTART:20190310T070000
END:DAYLIGHT
BEGIN:STANDARD
TZOFFSETFROM:-0400
TZOFFSETTO:-0500
TZNAME:EST
DTSTART:20191103T060000
END:STANDARD
END:VTIMEZONE
BEGIN:VEVENT
DTSTART;VALUE=DATE:20190702
DTEND;VALUE=DATE:20190704
DTSTAMP:20210403T200427
CREATED:20190702T005218Z
LAST-MODIFIED:20190702T005218Z
UID:166436-1562025600-1562198399@www.patriotguard.org
SUMMARY:Michael Langley
DESCRIPTION:Honor Mission\nMichael Langley\, Veteran\nUSA\nCanton\, Georgia – 07-02-19\n\n\n\n\nABOUT THE MISSION: \nThe family of Michael Langley has asked the Patriot Guard to stand for their hero. He served in the United States Army during the 1990’s. He loved his country and lived a very successful life. His brother Toney Langley is a LEO from Cobb County and he works with fellow American Legion Rider Post 304 and Marietta PD Lt. Tim Lemming. It is our honor and privilege to do so.\n\n\nPRIMARY STAGING DETAILS: 07-02-19 \nStaging Time: 15:30  \nSouth Canton Funeral Home\n3147 Marietta Hwy\nCanton\, Georgia 30114\n\n\nRide Captain: \nReuben Baumgardner\n770-324-5052\nbaumgardnerreuben200@yahoo.com\n\n\nSpecial Instructions: \nVisitation 4pm-8pm\n\n\nFlags & Water:\n\nFlags will be provided\nLarge Bike Flags will NOT be needed.\nWater will be provided.\n\nSTAGING #2 DETAILS: 07-03-19 \nStaging Time: 08:00  \nSouth Canton Funeral Home\n3147 Marietta Hwy\nCanton\, Georgia 30114\n\n\nRide Captain: \nBob “Capt. Bob” Weatherford\n770-335-2993\nbob@bobweatherford.com\n\n\nSpecial Instructions: \nTimes are:\nService 9:00 – 10:00 am  Escort to GNC immediately following at appx 10:30 am\nGNC Service is 11:00 am with full Military honors\n\nIf unable to make the escort\, please plan on being at GNC by 10:30 for flag line.\n\nAfter a briefing\, we will stand a flag line from 8:30 am until the family arrives and the service starts at 09:00 am. When the service starts\, flag line will be dismissed\, and we will prepare for escort.\n\n\nFlags & Water:\nFlags will be provided\nIf you have large bike flags\, please bring them.\nWater WILL NOT be provided\, please bring your own.\n\n\n\nSubmitted By: Don Wilson \nPosition: Georgia State Captain \n\nNote: You do not have to own/ride a motorcycle or be a veteran to join\, and membership is Free. The only requirement is RESPECT! To subscribe to receive mission notices\, log into the National Site and click on the Members tab at the top. Select the Subscribe to PGR Missions option.\n Print This Page
URL:https://www.patriotguard.org/mission/michael-langley/
CATEGORIES:Honor Mission
END:VEVENT
END:VCALENDAR