BEGIN:VCALENDAR
VERSION:2.0
PRODID:-//Patriot Guard Riders - ECPv5.6.0//NONSGML v1.0//EN
CALSCALE:GREGORIAN
METHOD:PUBLISH
X-WR-CALNAME:Patriot Guard Riders
X-ORIGINAL-URL:https://www.patriotguard.org
X-WR-CALDESC:Events for Patriot Guard Riders
BEGIN:VTIMEZONE
TZID:America/New_York
BEGIN:DAYLIGHT
TZOFFSETFROM:-0500
TZOFFSETTO:-0400
TZNAME:EDT
DTSTART:20160313T070000
END:DAYLIGHT
BEGIN:STANDARD
TZOFFSETFROM:-0400
TZOFFSETTO:-0500
TZNAME:EST
DTSTART:20161106T060000
END:STANDARD
END:VTIMEZONE
BEGIN:VEVENT
DTSTART;TZID=America/New_York:20160827T090000
DTEND;TZID=America/New_York:20160827T110000
DTSTAMP:20210512T011224
CREATED:20160827T130000Z
LAST-MODIFIED:20191201T143255Z
UID:409613-1472288400-1472295600@www.patriotguard.org
SUMMARY:Michael K. Christensen
DESCRIPTION:SSgt. Michael K Christensen\nUS Army\n\n\nThe Patriot Guard Riders have been requested to stand a flag line for SSgt. Michael K Christensen. \nSSgt. Michael K Christensen served in the U.S. Army. \nThis will be a Veterans format. The service will be at the LDS church on 8171 S Jackson St in Midvale at 12:00 PM on Saturday\, August 27\, 2016. We will stand a flag line at the mortuary and then escort SSgt. Michael K Christensen to his final resting place in the Midvale City Cemetery on 471 W 7500 S in Midvale\, where we will stand another flag line. \nThe ride captain for this mission will be Tom LaRochelle and he can be reached at: 801-879-1359. \nStaging: 12:00 PM at 7-Eleven\, 8002 State St\, Midvale.\nKSU: 12:30 PM \nWeather: Sunny with a high of 88. Please dress accordingly and keep yourself hydrated. \nThank you\, SSgt. Michael K Christensen\, for your service. \nAnyone attending in a cage and willing to transport flags please contact Tom LaRochelle at: 801-879-1359.
URL:https://www.patriotguard.org/mission/michael-k-christensen/
CATEGORIES:Archive
END:VEVENT
END:VCALENDAR