BEGIN:VCALENDAR
VERSION:2.0
PRODID:-//Patriot Guard Riders - ECPv5.3.2.1//NONSGML v1.0//EN
CALSCALE:GREGORIAN
METHOD:PUBLISH
X-WR-CALNAME:Patriot Guard Riders
X-ORIGINAL-URL:https://www.patriotguard.org
X-WR-CALDESC:Events for Patriot Guard Riders
BEGIN:VTIMEZONE
TZID:America/New_York
BEGIN:DAYLIGHT
TZOFFSETFROM:-0500
TZOFFSETTO:-0400
TZNAME:EDT
DTSTART:20190310T070000
END:DAYLIGHT
BEGIN:STANDARD
TZOFFSETFROM:-0400
TZOFFSETTO:-0500
TZNAME:EST
DTSTART:20191103T060000
END:STANDARD
END:VTIMEZONE
BEGIN:VEVENT
DTSTART;VALUE=DATE:20190807
DTEND;VALUE=DATE:20190808
DTSTAMP:20210402T091204
CREATED:20190802T141446Z
LAST-MODIFIED:20190802T141446Z
UID:169489-1565136000-1565222399@www.patriotguard.org
SUMMARY:Michael J. Yust
DESCRIPTION:Honor Mission\nMichael J. Yust \, Veteran\nUSAF –\nSt Peters\, Missouri – 08-07-19\n\n\n\n\nABOUT THE MISSION: \nLadies and Gentlemen of the Patriot Guard Riders\, we have been invited to honor a revered member of the United States Military. The family of Michael J. Yust has invited Patriot Guard Riders to stand a flag line of honor and respect. It will be our honor to do so. We will then escort their loved one to his final resting place in the Hallowed Grounds of Jefferson Barracks National Cemetery for his final Military Honors.Hero Yust served in the United States Air Force from November 1973 to February 1976. He earned the rank of E4 and was a Medical Services Specialist\, attached to the Hill Air Force Base. SGT Yust was awarded the National Defense Service Medal.Thank you\, Mr. Yust\, from a grateful Nation. Your faithful dedication to serve the United States of America is deeply appreciated\, and will never be forgotten.\n\n\nPRIMARY STAGING DETAILS: 08-07-19 \nStaging Time: 10:45  \nNewcomer Funeral Home\n837 Mid Rivers Mall Dr\nSt Peters\, Missouri 63376\nMap\n\n\nRide Captain: \nJoseph “Mustang” Bilodeau\njoseph1918@aol.com\n(636) 577-4767\n\n\nSpecial Instructions: \nStage/Mission Brief: 10:45 AM Flag line from 11:00 AM to 12:00 PM Funeral service at 12:00 PM Following the service\, we will escort our hero to Jefferson Barracks National Cemetery for a 2:00 PM slot.Weather forecast is mainly cloudy with a high of 88F. 20% chance of rain. Dress appropriately.\nFlags and Support by Michael “Jenky” Jenkins Cages are always welcome.Remember to Hydrate.\n\nFlags & Water:\nFlags will be provided\nIf you have large bike flags\, please bring them.\nWater will be provided.\n\n\n\nSubmitted By: Joseph Bilodeau \nPosition: Missouri Ride Captain \n\nNote: You do not have to own/ride a motorcycle or be a veteran to join\, and membership is Free. The only requirement is RESPECT! To subscribe to receive mission notices\, log into the National Site and click on the Members tab at the top. Select the Subscribe to PGR Missions option.\n Print This Page
URL:https://www.patriotguard.org/mission/michael-j-yust/
CATEGORIES:Honor Mission
END:VEVENT
END:VCALENDAR