BEGIN:VCALENDAR
VERSION:2.0
PRODID:-//Patriot Guard Riders - ECPv5.6.0//NONSGML v1.0//EN
CALSCALE:GREGORIAN
METHOD:PUBLISH
X-WR-CALNAME:Patriot Guard Riders
X-ORIGINAL-URL:https://www.patriotguard.org
X-WR-CALDESC:Events for Patriot Guard Riders
BEGIN:VTIMEZONE
TZID:America/New_York
BEGIN:DAYLIGHT
TZOFFSETFROM:-0500
TZOFFSETTO:-0400
TZNAME:EDT
DTSTART:20160313T070000
END:DAYLIGHT
BEGIN:STANDARD
TZOFFSETFROM:-0400
TZOFFSETTO:-0500
TZNAME:EST
DTSTART:20161106T060000
END:STANDARD
END:VTIMEZONE
BEGIN:VEVENT
DTSTART;TZID=America/New_York:20160610T090000
DTEND;TZID=America/New_York:20160610T110000
DTSTAMP:20210513T141015
CREATED:20160610T130000Z
LAST-MODIFIED:20191201T145258Z
UID:411455-1465549200-1465556400@www.patriotguard.org
SUMMARY:Michael J. Schwahn\, 87\, USA Veteran
DESCRIPTION:Ladies and Gentlemen of the Patriot Guard Riders\, we have been requested to stand for US Army Veteran\, Michael J. Schwahn\, age 87.  Michael was born in Dodge\, North Dakota and was the fourth of ten children. The family eventually settled in Oregon City\, where he lived the rest of his life. He enlisted in the Army AUG 1948 and served in the Korean War.  Upon his discharge in DEC 1949\, he joined the Reserves and served until NOV 1951. Michael was awarded the Army of Occupation Medal Japan. He worked at Publisher’s Paper Mill in Oregon City for 36 years\, retiring at the age of 55. Please join us as we help support his family\, pay our respects\, and honor his service to our nation. \nMission Date: Friday\, 10/JUN/16 \nRide Captain:  :  Tex Perry skytex@comcast.net \nStaging Location: Willamette National Cemetery – 11800 SE Mt Scott Blvd.\, Portland\, OR – up top at the Rostrum by the flagpole\, please enter the cemetery through Gate 2 – across from Lincoln Memorial. \nStaging Time:  12:00 pm\nBriefing:  12:20 pm\nKSU:  12:30 pm\nFlag line Set: 12:45 pm\nService Begins: 1:00 pm \n*** There will be a RHG from the office to the shelter. \n—\nJohn Hanan II\nOregon State Captain
URL:https://www.patriotguard.org/mission/michael-j-schwahn-87-usa-veteran/
CATEGORIES:Archive
END:VEVENT
END:VCALENDAR