BEGIN:VCALENDAR
VERSION:2.0
PRODID:-//Patriot Guard Riders - ECPv5.3.2.1//NONSGML v1.0//EN
CALSCALE:GREGORIAN
METHOD:PUBLISH
X-WR-CALNAME:Patriot Guard Riders
X-ORIGINAL-URL:https://www.patriotguard.org
X-WR-CALDESC:Events for Patriot Guard Riders
BEGIN:VTIMEZONE
TZID:America/New_York
BEGIN:DAYLIGHT
TZOFFSETFROM:-0500
TZOFFSETTO:-0400
TZNAME:EDT
DTSTART:20170312T070000
END:DAYLIGHT
BEGIN:STANDARD
TZOFFSETFROM:-0400
TZOFFSETTO:-0500
TZNAME:EST
DTSTART:20171105T060000
END:STANDARD
END:VTIMEZONE
BEGIN:VEVENT
DTSTART;TZID=America/New_York:20170901T121500
DTEND;TZID=America/New_York:20170901T141500
DTSTAMP:20210404T095436
CREATED:20170901T161500Z
LAST-MODIFIED:20191201T030624Z
UID:311028-1504268100-1504275300@www.patriotguard.org
SUMMARY:Michael J. Martinez\, Active Duty\, USA
DESCRIPTION:Michael J. Martinez\, Active Duty\nUSA\nMULTI-CITY\, California – 01 Sep 2017\n\n[HR][/HR]\nABOUT THE MISSION: \n\nThis will be a 2 Part mission \nThe family and the US Army have invited the Patriot Guard Riders to  attend the arrival and funeral of SGT Michael J. Martinez\, 22. \nSGT Martinez\, from Norwalk\, CA\, enlisted in the US Army July 2\, 2013.   He was a fire support specialist with the 3rd Armored Brigade Combat  Team\, 4th Infantry Division out of Ft Carson\, Colorado.  His unit was  deployed to Germany in support of Operation Atlantic Resolve when he  sadly passed away. \nPart 1 will consist of the Hero’s arrival home to California and accompany approximately 28 miles to the mortuary in Whittier. \nPart 2 TBA when details are available\n \n\nPRIMARY STAGING DETAILS:  01 Sep 2017\nPrimary Staging Time: 12:15 P.M. \n\nBob Hope USO\n203 World Way\, #203\nLos Angeles\, California – 90045\nhttps://goo.gl/maps/NeAT3n35gDA2\n\n\nRide Captain: \n\nCurt “Stitch” Bancroft\ncbptg1@gmail.com\n818-406-0408 cell\n\n\nSpecial Instructions: \n\nPart 1 Time Table for Friday\, 01 SEP 17:\n1215 – Stage at Bob Hope USO\, 203 World Way\, #203\, Los Angeles\, CA 90045  https://goo.gl/maps/NeAT3n35gDA2\n1230 – Mission briefing\n1300 – KSU to arrival location\n1330 – KSU to Rose Hills Memorial Park mortuary\, 3888 Workman Mill Rd.\, Whittier\, CA 90601  https://goo.gl/maps/8R7C4qn5Yh62\n1415 – ETA at mortuary\n1430 – Flag Line for dignified transfer of Hero into building \nNOTE: This mission posting is to facilitate your voluntary participation  in honoring this American Hero. For those interested\, and all are  welcome\, we will be accompanying the hero and his family from the  airport to the mortuary. Please see the time table if you would like to  participate. For those who would rather go directly to the mortuary\, we  will meet you there.\n \n\nFlags & Water: \n\nFlags Will NOT Be Provided\, Please Bring Your Own.\nIf you have large bike flags\, please bring them.\nWater WILL NOT be provided\, please bring your own.\n\n\nSubmitted By: Beth Allen\nPosition: Ride Captain\n[HR][/HR]Note:\nYou do not have to own/ride a motorcycle or be a Veteran to join and membership is Free. The only requirement is RESPECT! To join\, simply go to www.PatriotGuard.org and click on Register. Membership is Free. \nTo subscribe to receive mission notices\, log into the National Site and click on the Mission Tab at the top. Select the Subscribe to Missions option.
URL:https://www.patriotguard.org/mission/michael-j-martinez-active-duty-usa/
END:VEVENT
END:VCALENDAR