BEGIN:VCALENDAR
VERSION:2.0
PRODID:-//Patriot Guard Riders - ECPv5.3.2.1//NONSGML v1.0//EN
CALSCALE:GREGORIAN
METHOD:PUBLISH
X-WR-CALNAME:Patriot Guard Riders
X-ORIGINAL-URL:https://www.patriotguard.org
X-WR-CALDESC:Events for Patriot Guard Riders
BEGIN:VTIMEZONE
TZID:America/New_York
BEGIN:DAYLIGHT
TZOFFSETFROM:-0500
TZOFFSETTO:-0400
TZNAME:EDT
DTSTART:20190310T070000
END:DAYLIGHT
BEGIN:STANDARD
TZOFFSETFROM:-0400
TZOFFSETTO:-0500
TZNAME:EST
DTSTART:20191103T060000
END:STANDARD
END:VTIMEZONE
BEGIN:VEVENT
DTSTART;VALUE=DATE:20190502
DTEND;VALUE=DATE:20190504
DTSTAMP:20210403T103015
CREATED:20190501T093034Z
LAST-MODIFIED:20190501T093147Z
UID:159369-1556755200-1556927999@www.patriotguard.org
SUMMARY:Michael Grochowski
DESCRIPTION:Honor Mission\nMichael Grochowski\, Retired\nUSAR – WoT\nUnion Grove\, Wisconsin – 05-02-19\n\n\n\nABOUT THE MISSION: \nMichael Grochowski\, 58\, passed away peacefully in his Holmen\, WI home on April 25\, 2019 surrounded by his family. Michael\, born December 31\, 1960 in Milwaukee\, WI. Michael Grochowski enlisted in the United States Army Reserve August\, 1st 1980 attending Basic Training at Ft. Leonard Wood\, Missouri. His first assignment was with 961st Engineer Battalion Milwaukee\, Wisconsin. In 1986\, he completed training as a Chemical Specialist and transferred to the 382nd Chemical Detachment 12th Special Forces Group Arlington Heights\, IL. He graduated Airborne School August\, 23rd 1986. In 1988\, he was selected for Elite Special Forces training at Ft. Bragg\, NC. Michael spent 9 years in Special Forces rising to the rank of Sergeant First Class (SFC). In 1994\, SFC Grochowski moved to Ft. McCoy\, WI transferring to B Co 228th AVN Regiment. In 2004\, he deployed with Headquarters 6-52nd AVN Battalion to Balad\, Iraq as the BN S4 NCOIC. After the completion of this Combat Deployment SFC Grochowski rejoined B Co 6-52nd AVN BN Ft. McCoy\, WI retiring in Oct 2011 with over with over 31 years of distinguished service to this Nation. SFC Grochowski’s Major Awards and Decorations include the Meritorious Service Medal\, Army Commendation Medal\, National Defense Service Medal\, Global War on Terrorism Expeditionary Medal\, Global War on Terrorism Service Medal\, Armed Forces Reserve Medal\, Overseas Service Ribbon\, Parachutist Tab and Special Forces Tab.\n\n\nPRIMARY STAGING DETAILS: 05-02-19 \nStaging Time: 12:00 noon  \nTrinity Evangelical Lutheran Church\n2908 S Colony Ave\,\nUnion Grove\, Wisconsin\n\n\nRide Captain: \nSteve Jensen\nsteve@jensenph.com\n\n\nSpecial Instructions: \nStaging 12:00 noon\nVisitation 1:00 p.m.\nService 2:00 p.m.\n\n\nFlags & Water:\nFlags will be provided\nLarge Bike Flags will NOT be needed.\nWater WILL NOT be provided\, please bring your own.\n\nSTAGING #2 DETAILS: 05-03-19 \nStaging Time: 10:00  \nSouthern Wisconsin Veterans Memorial Cemetery\n21731 Spring Street\nUnion Grove\, Wisconsin\n\n\nRide Captain: \nTom Sberna\ntsberna@wi.rr.com\n\n\nSpecial Instructions: \nStaging 10:00 a.m.\nService 11:00 a.m.\n\n\nFlags & Water:\nFlags will be provided\nLarge Bike Flags will NOT be needed.\nWater WILL NOT be provided\, please bring your own.\n\nSubmitted By: John Curran \nPosition: Wisconsin State Captain \n\nNote: You do not have to own/ride a motorcycle or be a veteran to join\, and membership is Free. The only requirement is RESPECT! To subscribe to receive mission notices\, log into the National Site and click on the Members tab at the top. Select the Subscribe to PGR Missions option.\n Print This Page
URL:https://www.patriotguard.org/mission/michael-grochowski/
CATEGORIES:Honor Mission
END:VEVENT
END:VCALENDAR