BEGIN:VCALENDAR
VERSION:2.0
PRODID:-//Patriot Guard Riders - ECPv5.3.2.1//NONSGML v1.0//EN
CALSCALE:GREGORIAN
METHOD:PUBLISH
X-WR-CALNAME:Patriot Guard Riders
X-ORIGINAL-URL:https://www.patriotguard.org
X-WR-CALDESC:Events for Patriot Guard Riders
BEGIN:VTIMEZONE
TZID:America/New_York
BEGIN:DAYLIGHT
TZOFFSETFROM:-0500
TZOFFSETTO:-0400
TZNAME:EDT
DTSTART:20190310T070000
END:DAYLIGHT
BEGIN:STANDARD
TZOFFSETFROM:-0400
TZOFFSETTO:-0500
TZNAME:EST
DTSTART:20191103T060000
END:STANDARD
END:VTIMEZONE
BEGIN:VEVENT
DTSTART;VALUE=DATE:20190731
DTEND;VALUE=DATE:20190802
DTSTAMP:20210402T115920
CREATED:20190731T001907Z
LAST-MODIFIED:20190731T001907Z
UID:169178-1564531200-1564703999@www.patriotguard.org
SUMMARY:Michael Glenn Allen
DESCRIPTION:Honor Mission\nMichael Glenn Allen\nUSN\nClay City\, Kentucky – 07-31-19\n\n\n\n\nABOUT THE MISSION: \nMr. Allen proudly served in the Navy from 1980 to 1986.\n\n\nPRIMARY STAGING DETAILS: 07-31-19 \nStaging Time: 3:30 PM\n \nMountain Parkway Church of God\n30 Adams Ridge Road\nClay City\, Kentucky\n\n\nRide Captain: \nKelly Shehan\n859-619-8158\n\n\nSpecial Instructions: \nVisitation begins at 4pm and ends at 8pm\n\nFlags & Water:\nFlags will be provided\nLarge Bike Flags will NOT be needed.\nWater WILL NOT be provided\, please bring your own.\n\nSTAGING #2 DETAILS: 08-01-19 \nStaging Time: 12:30 PM \nMountain Parkway Church of God\n30 Adams Ridge Road\nClay City\, Kentucky\n\n\nRide Captain: \nKelly Shehan\n859-619-8158\n\n\nSpecial Instructions: \nFuneral Services begin at 1pm\nEscort will follow to Clark Cemetery\n\nFlags & Water:\nFlags will be provided\nIf you have large bike flags\, please bring them.\nWater WILL NOT be provided\, please bring your own.\n\n\n\nSubmitted By: Kelli Oakley \nPosition: Kentucky Ride Captain \n\nNote: You do not have to own/ride a motorcycle or be a veteran to join\, and membership is Free. The only requirement is RESPECT! To subscribe to receive mission notices\, log into the National Site and click on the Members tab at the top. Select the Subscribe to PGR Missions option.\n Print This Page
URL:https://www.patriotguard.org/mission/michael-glenn-allen/
CATEGORIES:Honor Mission
END:VEVENT
END:VCALENDAR