BEGIN:VCALENDAR
VERSION:2.0
PRODID:-//Patriot Guard Riders - ECPv5.3.2.1//NONSGML v1.0//EN
CALSCALE:GREGORIAN
METHOD:PUBLISH
X-WR-CALNAME:Patriot Guard Riders
X-ORIGINAL-URL:https://www.patriotguard.org
X-WR-CALDESC:Events for Patriot Guard Riders
BEGIN:VTIMEZONE
TZID:America/New_York
BEGIN:DAYLIGHT
TZOFFSETFROM:-0500
TZOFFSETTO:-0400
TZNAME:EDT
DTSTART:20190310T070000
END:DAYLIGHT
BEGIN:STANDARD
TZOFFSETFROM:-0400
TZOFFSETTO:-0500
TZNAME:EST
DTSTART:20191103T060000
END:STANDARD
END:VTIMEZONE
BEGIN:VEVENT
DTSTART;VALUE=DATE:20190724
DTEND;VALUE=DATE:20190727
DTSTAMP:20210403T184321
CREATED:20190723T012104Z
LAST-MODIFIED:20190725T172123Z
UID:168533-1563926400-1564185599@www.patriotguard.org
SUMMARY:Michael Edwin Warnke
DESCRIPTION:Honor Mission\nMichael Edwin Warnke\, Active Duty\, Veteran\nLEO – USMC\nMulti-City\, Georgia – 07-24-19\n\n\nABOUT THE MISSION:\n\n\nThe family of active duty Gwinnett County Police Officer\, Corporal Michael Edwin Warnke\, age 37\, of Dunwoody\, GA\, has asked the PGR to honor the life and service of this loving husband\, father\, son\, brother and friend who passed passed away unexpectedly Friday\, July 19\, 2019. Prior to becoming a Police Officer with Gwinnett County Michael served as a Military Police Officer in the United States Marine Corp as a Corporal. Michael loved spending time with his wife Whitney and their new 6 month old son.\n\n\nPRIMARY STAGING DETAILS: 07-24-19 \nStaging Time: 5:30 pm \nCrowell Brothers Funeral Homes & Crematory\n5051 Peachtree Industrial Boulevard\nPeachtree Corners\, Georgia 30092\n\n\nRide Captain: \nJeff ‘JayDub’ Goodiel\njaydub@PatriotGuard.org\n\n\nSpecial Instructions: \nWe will stand a flag line for the evening visitation. 6-8pm\n\n\nFlags & Water:\nFlags will be provided\nLarge Bike Flags will NOT be needed.\nWater will be provided.\n\nSTAGING #2 DETAILS: 07-25-19 \nStaging Time: 09:15 am \nCrowell Brothers Funeral Homes & Crematory\n5051 Peachtree Industrial Boulevard\nPeachtree Corners\, Georgia 30092\n\n\nRide Captain: \nJeff ‘JayDub’ Goodiel\nJayDub@PatriotGuard.org\n\n\nSpecial Instructions: \nWe will stage at the funeral home for the funeral service and establish a flag line beginning at 9:30 am until the service starts at 11:00 am then we will stand down.\n\n\nFlags & Water:\nFlags will be provided\nLarge Bike Flags will NOT be needed.\nWater will be provided.\n\nSTAGING #3 DETAILS: 07-26-19 \nStaging Time: 06:45 am \nCrowell Brothers Funeral Homes & Crematory\n5051 Peachtree Industrial Boulevard\nPeachtree Corners\, Georgia 30092\n\n\nRide Captain: \nJeff ‘JayDub’ Goodiel\nJayDub@PatriotGuard.org\n\n\nSpecial Instructions: \nWe will stage at the funeral home at 6:45 am and prepare for KSU at 7:10 am to leave for Georgia National Cemetery for the 9:00 am cemetery services. Flying big flags is to not necessary! This is Police Escorted and we will be traveling at a high rate of speed and need to keep up! \n\n\nThis mission to escort Gwinnett County Police Officer Michael Warnke to GNC will be moving quickly. Please be on time for staging!\n\n\n\n\nFlags & Water:\nFlags will not be provided\nIf you have large bike flags\, please bring them.\nWater will be provided.\n\nSTAGING #4 DETAILS: 07-26-19 \nStaging Time: 08:15 am \nGeorgia National Cemetery\n1080 Scott Hudgens Dr\nCanton\, Georgia 30114\n\n\nRide Captain: \nByron “Gimpy” Hall\nbplayer46@gmail.com\n\n\nSpecial Instructions: \nIf going directly to GNC\, stage at MIA/POW flag pole area to await arrival of escort. We will move to assigned shelter at the appropriate time.\n\n\nFlags & Water:\nFlags will be provided\nLarge Bike Flags will NOT be needed.\nWater WILL NOT be provided\, please bring your own.\n\n\nSubmitted By: Jeffrey Goodiel \nPosition: Vice President of Captains \n\nNote: You do not have to own/ride a motorcycle or be a veteran to join\, and membership is Free. The only requirement is RESPECT! To subscribe to receive mission notices\, log into the National Site and click on the Members tab at the top. Select the Subscribe to PGR Missions option.\n Print This Page
URL:https://www.patriotguard.org/mission/michael-edwin-warnke/
CATEGORIES:Honor Mission
END:VEVENT
END:VCALENDAR