BEGIN:VCALENDAR
VERSION:2.0
PRODID:-//Patriot Guard Riders - ECPv5.3.2.1//NONSGML v1.0//EN
CALSCALE:GREGORIAN
METHOD:PUBLISH
X-WR-CALNAME:Patriot Guard Riders
X-ORIGINAL-URL:https://www.patriotguard.org
X-WR-CALDESC:Events for Patriot Guard Riders
BEGIN:VTIMEZONE
TZID:America/New_York
BEGIN:DAYLIGHT
TZOFFSETFROM:-0500
TZOFFSETTO:-0400
TZNAME:EDT
DTSTART:20190310T070000
END:DAYLIGHT
BEGIN:STANDARD
TZOFFSETFROM:-0400
TZOFFSETTO:-0500
TZNAME:EST
DTSTART:20191103T060000
END:STANDARD
END:VTIMEZONE
BEGIN:VEVENT
DTSTART;VALUE=DATE:20190726
DTEND;VALUE=DATE:20190727
DTSTAMP:20210403T034935
CREATED:20190719T204745Z
LAST-MODIFIED:20190719T204745Z
UID:168288-1564099200-1564185599@www.patriotguard.org
SUMMARY:Michael E. Collins
DESCRIPTION:Honor Mission\nMichael E. Collins\, Veteran\nUSAF – Vietnam\nMacon\, Georgia – 07-26-19\n\n\n\n\nABOUT THE MISSION: \nThe family of United States Air Force veteran\, Michael E. Collins\, has requested that the Patriot Guard Riders escort him to his final resting place at Georgia Veterans Memorial Cemetery\, it will be our honor to do so. Mr Collins served four years in the Air Force as a K-9 Handler with two tours in Vietnam. This will be an escort only mission\, military honors were accomplished at a prior date.\n\n\nPRIMARY STAGING DETAILS: 07-26-19 \nStaging Time: 08:30 am \nAuto Air of Macon\n2405 Liberty Church Road\nMacon\, Georgia 31216\n\n\nRide Captain: \nLee “vulcangunner” Love\nvulcangunner2@windstream.net\n(478)952-2097\n\n\nSpecial Instructions: \nAfter briefing will move to hero’s home and prepare for escort\, Please keep in mind that there will be no LEO support\, so we must obey all traffic laws in route to Georgia Veterans Memorial Cemetery\, Milledgeville\, Georgia 31061. Escort only no flag line.\n\n\nFlags & Water:\n\nFlags will not be provided\nIf you have large bike flags\, please bring them.\nWater WILL NOT be provided\, please bring your own.\n\n\n\nSubmitted By: Henry L. Love \nPosition: Georgia Ride Captain \n\nNote: You do not have to own/ride a motorcycle or be a veteran to join\, and membership is Free. The only requirement is RESPECT! To subscribe to receive mission notices\, log into the National Site and click on the Members tab at the top. Select the Subscribe to PGR Missions option.\n Print This Page
URL:https://www.patriotguard.org/mission/michael-e-collins/
CATEGORIES:Honor Mission
END:VEVENT
END:VCALENDAR