BEGIN:VCALENDAR
VERSION:2.0
PRODID:-//Patriot Guard Riders - ECPv5.3.2.1//NONSGML v1.0//EN
CALSCALE:GREGORIAN
METHOD:PUBLISH
X-WR-CALNAME:Patriot Guard Riders
X-ORIGINAL-URL:https://www.patriotguard.org
X-WR-CALDESC:Events for Patriot Guard Riders
BEGIN:VTIMEZONE
TZID:America/New_York
BEGIN:DAYLIGHT
TZOFFSETFROM:-0500
TZOFFSETTO:-0400
TZNAME:EDT
DTSTART:20190310T070000
END:DAYLIGHT
BEGIN:STANDARD
TZOFFSETFROM:-0400
TZOFFSETTO:-0500
TZNAME:EST
DTSTART:20191103T060000
END:STANDARD
END:VTIMEZONE
BEGIN:VEVENT
DTSTART;VALUE=DATE:20190831
DTEND;VALUE=DATE:20190901
DTSTAMP:20210402T133110
CREATED:20190828T035643Z
LAST-MODIFIED:20190828T040501Z
UID:172135-1567209600-1567295999@www.patriotguard.org
SUMMARY:Michael Drew McDougal
DESCRIPTION:Honor Mission\nMichael Drew McDougal\, Veteran\nUSA – Vietnam\nMineral Wells\, Texas – 08-31-19\n\n\n\nABOUT THE MISSION: \nMichael Drew McDoubal served in the 101st Airborne Division\, and was awarded the following awards: National Defense Service Medal\, Vietnam Campaign Medal\, Vietnam Service Medal w/1 Campaign Star\, Overseas Service Bar\, Air Medal\, Combat Infantry Badge\, 1st Class Badge M-60\, Expert Badge M-16\, Sharpshooter Badge .45 Cal. Pistol.\n\n\nPRIMARY STAGING DETAILS: 08-31-19 \nStaging Time: 9:00 am  \nSouthside Church of Christ 1\n401 SE 25th Avenue\nMineral Wells\, Texas 76067\n\n\nRide Captain: \nBrian Liberty\npostmasterliberty@gmail.com\n(979) 702-9097\n\n\nSpecial Instructions: \nFuneral Service & Procession Staging Time: 9:00 am\nBriefing Time: 9:15 am\nIn Position/KSU Time: 9:30 am\nStarting Time: 10:00 am\n\nThe PGR will stage at Southside Church of Christ\, flags will be set\, riders will given the mission brief and prepare to receive the family and friends of CPL McDougal. Once the service starts\, the Ride Captain will make the decision when to remove the flags and take them to the support vehicle. The riders will be debriefed and dismissed from Part 1 of this mission.Part 2 is at the Perrin Memorial Garden Cemetery.\n\n\nFlags & Water:\nFlags will be provided\nIf you have large bike flags\, please bring them.\nWater will be provided.\n\nSTAGING #2 DETAILS: 08-31-19 \nStaging Time: 10:40 am  \nPerrin Memorial Gardens\nBack Cemetery Road\nPerrin\, Texas 76486\n\n\nRide Captain: \nBrian Liberty\npostmasterliberty@gmail.com\n(979) 702-9097\n\n\nSpecial Instructions: \nStaging Time: 10:40 am\nBriefing Time: 10:45 am\nIn Position/KSU Time: 10:50 am\nStarting Time: 11:00 am Time Estimated\nRiders that do not ride in procession will stage at Perrin Memorial Garden Cemetery for the interment service. Once at the cemetery\, the riders will be briefed\, set a flag line and await the friends and family of CPL McDougal. After the service\, flags will be furled and returned to the storage vehicle\, and then riders briefed and dismissed.\n\n\nFlags & Water:\nFlags will be provided\nIf you have large bike flags\, please bring them.\nWater will be provided.\n\nSubmitted By: Dan Mathys \nPosition: Texas Ride Captain \n\nNote: You do not have to own/ride a motorcycle or be a veteran to join\, and membership is Free. The only requirement is RESPECT! To subscribe to receive mission notices\, log into the National Site and click on the Members tab at the top. Select the Subscribe to PGR Missions option.\n Print This Page
URL:https://www.patriotguard.org/mission/michael-drew-mcdougal/
CATEGORIES:Honor Mission
END:VEVENT
END:VCALENDAR