BEGIN:VCALENDAR
VERSION:2.0
PRODID:-//Patriot Guard Riders - ECPv5.3.2.1//NONSGML v1.0//EN
CALSCALE:GREGORIAN
METHOD:PUBLISH
X-WR-CALNAME:Patriot Guard Riders
X-ORIGINAL-URL:https://www.patriotguard.org
X-WR-CALDESC:Events for Patriot Guard Riders
BEGIN:VTIMEZONE
TZID:America/New_York
BEGIN:DAYLIGHT
TZOFFSETFROM:-0500
TZOFFSETTO:-0400
TZNAME:EDT
DTSTART:20190310T070000
END:DAYLIGHT
BEGIN:STANDARD
TZOFFSETFROM:-0400
TZOFFSETTO:-0500
TZNAME:EST
DTSTART:20191103T060000
END:STANDARD
END:VTIMEZONE
BEGIN:VEVENT
DTSTART;VALUE=DATE:20190531
DTEND;VALUE=DATE:20190601
DTSTAMP:20210405T043245
CREATED:20190530T184556Z
LAST-MODIFIED:20190530T184556Z
UID:163081-1559260800-1559347199@www.patriotguard.org
SUMMARY:Michael David Gerbeck
DESCRIPTION:Honor Mission\nMichael David Gerbeck\, Veteran\nUSN \, USNR – Vietnam\nHolly\, Michigan – 05-31-19\n\n\n\nABOUT THE MISSION: \nMichael served in the United States Navy as a corpsman reaching the rank of E-4 petty officer third class. Born in Detroit Michigan he joined the United States Navy in 1966 until 1969\, then joined the United States Naval Reserves until 1971\, also serving as a corpsman. Michael earned the National Defense service medal\, Republic of Vietnam campaign medal\, and the Vietnam service medal with two bronze Stars. He is survived by his stepson.Obituary: https://www.wintfuneralhome.com/obituary/michael-gerbeck\n\n\nPRIMARY STAGING DETAILS: 05-31-19 \nStaging Time: 8:00 am  \nMcDonalds\, Holly\n15187 N. Holly Rd\nHolly\, Michigan 48442\nhttps://goo.gl/maps/6D6vhyxGxvNUViEe8\n\n\nRide Captain: \n” Doc” Vince\n(248) 854-0329\ncenz38@hotmail.com\n\n\nSpecial Instructions: \nBriefing: 8:30 am\nDepart for Great Lakes:9:00 am\nService: 9:30 am\nPlease bring your 3’x5′ American flag to stand in honor of petty officer 3rd class Michael Gerbeck\n\n\nFlags & Water:\nFlags will not be provided\nIf you have large bike flags\, please bring them.\nWater WILL NOT be provided\, please bring your own.\n\n\nSubmitted By: Alan Niemeyer \nPosition: Michigan State Captain \n\nNote: You do not have to own/ride a motorcycle or be a veteran to join\, and membership is Free. The only requirement is RESPECT! To subscribe to receive mission notices\, log into the National Site and click on the Members tab at the top. Select the Subscribe to PGR Missions option.\n Print This Page
URL:https://www.patriotguard.org/mission/michael-david-gerbeck/
CATEGORIES:Honor Mission
END:VEVENT
END:VCALENDAR