BEGIN:VCALENDAR
VERSION:2.0
PRODID:-//Patriot Guard Riders - ECPv5.3.2.1//NONSGML v1.0//EN
CALSCALE:GREGORIAN
METHOD:PUBLISH
X-WR-CALNAME:Patriot Guard Riders
X-ORIGINAL-URL:https://www.patriotguard.org
X-WR-CALDESC:Events for Patriot Guard Riders
BEGIN:VTIMEZONE
TZID:America/New_York
BEGIN:DAYLIGHT
TZOFFSETFROM:-0500
TZOFFSETTO:-0400
TZNAME:EDT
DTSTART:20190310T070000
END:DAYLIGHT
BEGIN:STANDARD
TZOFFSETFROM:-0400
TZOFFSETTO:-0500
TZNAME:EST
DTSTART:20191103T060000
END:STANDARD
END:VTIMEZONE
BEGIN:VEVENT
DTSTART;VALUE=DATE:20190620
DTEND;VALUE=DATE:20190622
DTSTAMP:20210405T071532
CREATED:20190618T181957Z
LAST-MODIFIED:20190618T181957Z
UID:165128-1560988800-1561161599@www.patriotguard.org
SUMMARY:Michael D. "Mike" Kizer
DESCRIPTION:Honor Mission\nMichael D. “Mike” Kizer\, Retired\nUSAF – Vietnam\nAlamogordo\, New Mexico – 06-20-19\n\n\n\nABOUT THE MISSION: \nSeventy-nine year old Michael D. Kizer passed from this earth as a result of cancer on 17 Jun 19. During his lifetime he served his community and nation honorably as a USAF Veteran\, Alamogordo Police Officer\, and various public service activities within the Alamogordo Community. He retired from the US Air Force after twenty years of service on 30 Jun 80 as a TSgt (E6). He was a fuel supervisor at the time of his discharge. Awards and Decorations received during his AF career include: Air Force Commendation Medal with 2 Oak Leaf Clusters\, Air Force Longevity Service Award Ribbon with 4 Oak Leaf Clusters\, National Defense Service Medal\, Good Conduct Medal\, Vietnam Service Medal\, Air Force Outstanding Unit Award\, Republic of Vietnam Gallantry Cross with Palm\, Republic of Vietnam Campaign Medal\, and Air Force Good Conduct Medal with 4 Oak Leaf Clusters. Following his Military Retirement\, Mike joined the Alamogordo Department of Public Safety and served as a motorcycle policeman. Mike’s family has requested support of the PGR at his funeral with the following requirements: Stand a flag line at the funeral home on Thursday evening during visitation\, stand a flag line outside Alamogordo High School on Friday morning as friends and family are arriving for his funeral service\, move the flag line inside during the ceremony\, escort to the cemetery\, and stand a flag line at the cemetery.\n\n\nPRIMARY STAGING DETAILS: 06-20-19 \nStaging Time: 4:10 PM\n \nWal-Mart Super Center Parking Lot\n233 South New York Avenue (cross street 1st Street)\nAlamogordo\, New Mexico 88310\n\n\nRide Captain: \nJim “Deacon Jim” Ernst\njimernst@q.com\n(575) 430-3904\n\n\nSpecial Instructions: \nStage: 4:10 pm\nBriefing: 4:20 pm\nKSU: 4:25 pm to Alamogordo Funeral Home\, 2301 First Street.\nFlag line outside the funeral home during the visitation. Since this is a long mission (approximately two hours) we will break into two groups and stand for 20 minute intervals.\nIf you are a member of other organizations\, please pass this mission information on to them for maximum support to honor this local hero.\n\n\nFlags & Water:\nFlags will be provided\nIf you have large bike flags\, please bring them.\nWater will be provided.\n\nSTAGING #2 DETAILS: 06-21-19 \nStaging Time: 09:00 AM\n \nAlamogordo High School Parking Lot by Gym Entrance (enter off of First Street)\n103 Cuba Avenue\nAlamogordo\, New Mexico 88310\n\n\nRide Captain: \nJim “Deacon Jim” Ernst\njimernst@q.com\n(575) 430-3904\n\n\nSpecial Instructions: \nStage: 09:00 am for a briefing.\nFlag line: 09:30 am.\nJust prior to the start of the funeral service the line will move into the Gym.\nEscort: Following service to the Monte Vista Cemetery\, 1590 East First Street.\nFlag line during Interment.\nMilitary Honors provided by the Holloman Air Force Base Steel Talons Honor Guard.\nIf you are a member of other organizations\, please forward this mission information to those organizations to assure maximum support to honor this local hero.\n\n\nFlags & Water:\nFlags will be provided\nIf you have large bike flags\, please bring them.\nWater will be provided.\n\n\n\nSubmitted By: Jim Ernst \nPosition: New Mexico State Captain \n\nNote: You do not have to own/ride a motorcycle or be a veteran to join\, and membership is Free. The only requirement is RESPECT! To subscribe to receive mission notices\, log into the National Site and click on the Members tab at the top. Select the Subscribe to PGR Missions option.\n Print This Page
URL:https://www.patriotguard.org/mission/michael-d-mike-kizer/
CATEGORIES:Honor Mission
END:VEVENT
END:VCALENDAR