BEGIN:VCALENDAR
VERSION:2.0
PRODID:-//Patriot Guard Riders - ECPv5.3.2.1//NONSGML v1.0//EN
CALSCALE:GREGORIAN
METHOD:PUBLISH
X-WR-CALNAME:Patriot Guard Riders
X-ORIGINAL-URL:https://www.patriotguard.org
X-WR-CALDESC:Events for Patriot Guard Riders
BEGIN:VTIMEZONE
TZID:America/New_York
BEGIN:DAYLIGHT
TZOFFSETFROM:-0500
TZOFFSETTO:-0400
TZNAME:EDT
DTSTART:20170312T070000
END:DAYLIGHT
BEGIN:STANDARD
TZOFFSETFROM:-0400
TZOFFSETTO:-0500
TZNAME:EST
DTSTART:20171105T060000
END:STANDARD
END:VTIMEZONE
BEGIN:VEVENT
DTSTART;TZID=America/New_York:20170519T073000
DTEND;TZID=America/New_York:20170519T093000
DTSTAMP:20210401T232248
CREATED:20170519T113000Z
LAST-MODIFIED:20191201T040017Z
UID:350860-1495179000-1495186200@www.patriotguard.org
SUMMARY:Michael D. Jackelen\, Veteran\, USMC - GW/ODS
DESCRIPTION:Michael D. Jackelen\, Esq.\, Veteran \nUSMC – GW/ODS \nMilwaukee\, Wisconsin – 19 May 2017\n\n[HR][/HR]\nABOUT THE MISSION: \nMichael D. Jackelen\, Esq. passed away May 9\, 2017. Michael comes from a proud service family and after having served in the United States Marine Corps\, Michael became a lawyer and was a strong veterans advocate. He also worked for the Department of Defense. \nMichael’s family is proud of his service both “boots on the ground” and his devotion to veterans. They have invited us to join as family and friends remember him and celebrate his life. \nWe will escort to interment at \nHoly Cross Cemetery  \n7301 W Nash St\,\nMilwaukee\, WI 53216 \n\nPRIMARY STAGING DETAILS: 19 May 2017 \n \nPrimary Staging Time: 7:30 A.M.\n\nGESU CHURCH\n1145 W. Wisconsin Ave\,\n\nMilwaukee\, Wisconsin – 53233\n\n\n\n \nRide Captain:\n\nMark Gehl\n[URL=”http://mgehl@esigroupusa.com”]mgehl@esigroupusa.com\n[/URL]\nQuestions contact John Curran jcurran516@aol.com\n\n \nSpecial Instructions:\n\nStaging 7:30 a.m.\nVisitation 8:30 – 10:00 a.m.\nMass of Christian Burial 10:00\nEscort to burial ETD 10:45 a.m\n\n \nFlags & Water:\n\nFlags Will Be Provided\n\nIf you have large bike flags\, please bring them.\n\nWater WILL NOT be provided\, please bring your own. \nParking\nWe are to use Lot J behind the church.  Access it from 11th street\, about 1/2 block south of Wisconsin Ave.\nThe attendant will lift the gate to let bikes in. Proceed to Lot J on the right. \n\n\n\nSubmitted By: John Curran\nPosition: State Captain \n[HR][/HR]\nNote:\nYou do not have to own/ride a motorcycle or be a Veteran to join and membership is Free. The only requirement is RESPECT! To join\, simply go to www.PatriotGuard.org and click on Register. Membership is Free. \nTo subscribe to receive mission notices\, log into the National Site and click on the Mission Tab at the top. Select Upcoming Missions by State. Scroll to the state(s) you would like to receive notices for and click on the green check mark. Detailed instructions are also located in the FAQs on the site by clicking on the Quick Links Tab and selecting FAQs.
URL:https://www.patriotguard.org/mission/michael-d-jackelen-veteran-usmc-gw-ods/
LOCATION:Gary Gene Southard
END:VEVENT
END:VCALENDAR