BEGIN:VCALENDAR
VERSION:2.0
PRODID:-//Patriot Guard Riders - ECPv5.6.0//NONSGML v1.0//EN
CALSCALE:GREGORIAN
METHOD:PUBLISH
X-WR-CALNAME:Patriot Guard Riders
X-ORIGINAL-URL:https://www.patriotguard.org
X-WR-CALDESC:Events for Patriot Guard Riders
BEGIN:VTIMEZONE
TZID:America/New_York
BEGIN:DAYLIGHT
TZOFFSETFROM:-0500
TZOFFSETTO:-0400
TZNAME:EDT
DTSTART:20210314T070000
END:DAYLIGHT
BEGIN:STANDARD
TZOFFSETFROM:-0400
TZOFFSETTO:-0500
TZNAME:EST
DTSTART:20211107T060000
END:STANDARD
END:VTIMEZONE
BEGIN:VEVENT
DTSTART;VALUE=DATE:20210513
DTEND;VALUE=DATE:20210514
DTSTAMP:20210512T074943
CREATED:20210510T125616Z
LAST-MODIFIED:20210510T125616Z
UID:576766-1620864000-1620950399@www.patriotguard.org
SUMMARY:Michael Caporale
DESCRIPTION:Honor Mission\nMichael Caporale\, Veteran\nUSN –\nLouisville\, Kentucky – 05-13-21\n\n\n\nABOUT THE MISSION: \nWe have been requested to escort Michael Caporale\, a proud veteran of the United States Navy to his final place of rest. It will be our honor.\n\n\nPRIMARY STAGING DETAILS: 05-13-21 \nStaging Time: 10:00 AM  EST\n \nNewcomer Funeral Home\n10304 Dixie Highway\nLouisville\, Kentucky 40272\n\n\nRide Captain: \nBob Kissell\n502 779-0638\n\n\nSpecial Instructions: \nPlease come hydrated and dressed for the weather.\nService starts at 11:00 am. Eastern Time.\nEscort following the service to Kentucky Veterans Cemetery Central\, 2501 North Dixie Blvd\, Radcliff\, KY 40160.\n\n\nFlags & Water:\nFlags will not be provided\nIf you have large bike flags\, please bring them.\nWater WILL NOT be provided\, please bring your own.\n\n\nSubmitted By: Thomas Baker \nPosition: Kentucky Ride Captain \n\nNote: You do not have to own/ride a motorcycle or be a veteran to join\, and membership is Free. The only requirement is RESPECT! To subscribe to receive mission notices\, log into the National Site and click on the Members tab at the top. Select the Subscribe to PGR Missions option.\n Print This Page
URL:https://www.patriotguard.org/mission/michael-caporale/
CATEGORIES:Honor Mission
END:VEVENT
END:VCALENDAR