BEGIN:VCALENDAR
VERSION:2.0
PRODID:-//Patriot Guard Riders - ECPv5.3.2.1//NONSGML v1.0//EN
CALSCALE:GREGORIAN
METHOD:PUBLISH
X-WR-CALNAME:Patriot Guard Riders
X-ORIGINAL-URL:https://www.patriotguard.org
X-WR-CALDESC:Events for Patriot Guard Riders
BEGIN:VTIMEZONE
TZID:America/New_York
BEGIN:DAYLIGHT
TZOFFSETFROM:-0500
TZOFFSETTO:-0400
TZNAME:EDT
DTSTART:20170312T070000
END:DAYLIGHT
BEGIN:STANDARD
TZOFFSETFROM:-0400
TZOFFSETTO:-0500
TZNAME:EST
DTSTART:20171105T060000
END:STANDARD
END:VTIMEZONE
BEGIN:VEVENT
DTSTART;TZID=America/New_York:20170424T084500
DTEND;TZID=America/New_York:20170424T104500
DTSTAMP:20210402T001403
CREATED:20170424T124500Z
LAST-MODIFIED:20191201T031626Z
UID:321808-1493023500-1493030700@www.patriotguard.org
SUMMARY:Michael Alan Hahn\, PGR
DESCRIPTION:Michael Alan Hahn\n\nPGR \nGranite City\, Illinois – 24 Apr 2017\n\n\n\n[HR][/HR]\nABOUT THE MISSION: \nThe family of Michael Hahn has requested that the Patriot Guard provide  escort for their loved one to his final resting place. \nMichael was a  proud member of the Patriot Guard and lived in Freeburg\, IL.  While not a  veteran himself he would often stop to thank any veteran that he would  pass on the street\, or sometimes buy a veteran’s lunch. \nMichael lost  his life in a motorcycle accident while riding his Harley Davidson near  his home. \nWe will stand a flag line for his 1 hour visitation and then  provide the escort that his family has asked of us.  It will be an honor  to do this for our brother PGR member. \nPRIMARY STAGING DETAILS:  24 Apr 2017\n \n \nPrimary Staging Time:  8:45 A.M.\n\nHope Lutheran Church\n3715 Wabash Ave\n\nGranite City\, Illinois\n\nhttps://www.google.com/maps/place/Ho…a=!4m2!3m1!1s0  \n\n\n \n \nRide Captain:\n\n Terry Spurgeon (618-830-3262)\nArne “Fat Fred” Dahlgren w/flag support\n\n\n\n \n \nSpecial Instructions:\n\nFlag line established following the briefing. \nAfter the church service we will escort the family to St John’s Cemetery (Nameoki Rd in Granite City) for Michael’s interment.\n\n\n\n \n \nFlags & Water:\n\nFlags will be provided\n\nIf you have large bike flags\, please bring them.\n\nWater WILL NOT be provided. Please bring your own.\n\n\n \nSubmitted By:  Ian Chafee\nPosition:  Assistant State Captain \n[HR][/HR]\nNote:\n\nYou do not have to own/ride a motorcycle or be a Veteran to join and membership is Free. The only requirement is RESPECT! To join\, simply go to www.PatriotGuard.org and click on Register. Membership is Free. \nTo subscribe to receive mission notices\, log into the National Site and  click on the Mission Tab at the top. Select Upcoming Missions by State.  Scroll to the state(s) you would like to receive notices for and click  on the green check mark. Detailed instructions are also located in the  FAQs on the site by clicking on the Quick Links Tab and selecting FAQs.
URL:https://www.patriotguard.org/mission/michael-alan-hahn-pgr/
END:VEVENT
END:VCALENDAR