BEGIN:VCALENDAR
VERSION:2.0
PRODID:-//Patriot Guard Riders - ECPv5.6.0//NONSGML v1.0//EN
CALSCALE:GREGORIAN
METHOD:PUBLISH
X-WR-CALNAME:Patriot Guard Riders
X-ORIGINAL-URL:https://www.patriotguard.org
X-WR-CALDESC:Events for Patriot Guard Riders
BEGIN:VTIMEZONE
TZID:America/New_York
BEGIN:DAYLIGHT
TZOFFSETFROM:-0500
TZOFFSETTO:-0400
TZNAME:EDT
DTSTART:20160313T070000
END:DAYLIGHT
BEGIN:STANDARD
TZOFFSETFROM:-0400
TZOFFSETTO:-0500
TZNAME:EST
DTSTART:20161106T060000
END:STANDARD
END:VTIMEZONE
BEGIN:VEVENT
DTSTART;TZID=America/New_York:20160607T090000
DTEND;TZID=America/New_York:20160607T110000
DTSTAMP:20210513T130239
CREATED:20160607T130000Z
LAST-MODIFIED:20191201T145354Z
UID:411541-1465290000-1465297200@www.patriotguard.org
SUMMARY:MG John F. Kane
DESCRIPTION:We have been invited by the family of John F. “Jack” Kane to honor his life and service to his country. We will stand a flag line at his funeral service to be held on Tuesday 7 Jun 16 at Cloverdale Funeral Home\, 1200 N Cloverdale Rd\, Boise. Service will be at 1200 hrs. \nJack served in the US Army from 1962 to 2005. He enlisted in the Idaho National Guard in 1962. He assumed duties of Adjutant General and Commanding General of the Idaho National Guard in February of 1995 and retired in February of 2005. \n1.\nStaging: 1045 hrs Tuesday 7 Jun 16\, Cloverdale Funeral Home\, 1200 N Cloverdale Rd. Boise.\nBriefing/updates: 1100 hrs Missing Man Assignments\, establish flag line immediately following.\nUpon commencement of the service\, riders will be dismissed and asked to re-stage for ISVC portion of the mission. \n2.\nStaging: 1400 hrs. Winco parking lot adjacent to Oil Can Henrys\, corner of State St and Old Horseshoe Bend Rd.\nBriefing Updates: 1415 hrs\nKSU: 1425 hrs. Ride as a group to ISVC and establish 2nd flag line and await arrival of funeral procession.  \nRC John Broderson (johnnytb79@gmail.com) 570-8719\nWeather: HOT. Stay hydrated. \n—\nDario J Bell\nIdaho State Captain
URL:https://www.patriotguard.org/mission/mg-john-f-kane/
CATEGORIES:Archive
END:VEVENT
END:VCALENDAR