BEGIN:VCALENDAR
VERSION:2.0
PRODID:-//Patriot Guard Riders - ECPv5.3.2.1//NONSGML v1.0//EN
CALSCALE:GREGORIAN
METHOD:PUBLISH
X-WR-CALNAME:Patriot Guard Riders
X-ORIGINAL-URL:https://www.patriotguard.org
X-WR-CALDESC:Events for Patriot Guard Riders
BEGIN:VTIMEZONE
TZID:America/New_York
BEGIN:DAYLIGHT
TZOFFSETFROM:-0500
TZOFFSETTO:-0400
TZNAME:EDT
DTSTART:20190310T070000
END:DAYLIGHT
BEGIN:STANDARD
TZOFFSETFROM:-0400
TZOFFSETTO:-0500
TZNAME:EST
DTSTART:20191103T060000
END:STANDARD
END:VTIMEZONE
BEGIN:VEVENT
DTSTART;VALUE=DATE:20190821
DTEND;VALUE=DATE:20190822
DTSTAMP:20210402T081438
CREATED:20190816T191217Z
LAST-MODIFIED:20190816T191217Z
UID:171129-1566345600-1566431999@www.patriotguard.org
SUMMARY:Merle Monty Penwell
DESCRIPTION:Honor Mission\nMerle Monty Penwell\, Veteran\nUSN\, WWII\nPortland\, Oregon – 08-21-19\n\n\n\nABOUT THE MISSION: \nLadies and Gentlemen of the Patriot Guard Riders\, we have been invited to stand for Merle Monty Penwell\, age 92. Merle served in the US Navy from 4 January 1944 to 14 September 1947 as an Aviation Machinist Mate 3rd Class in Naval Air Transport Service Transport Squadron 1 (VR-1). He served in places like Noumea\, New Caledonia\, Hawaii and Guam. Merle earned the American Theater Medal\, the Asiatic Pacific Theater Medal\, a Good Conduct Medal and the WWII Victory Medal. Please join us as we pay our respects and honor his service to our nation.\n\n\nPRIMARY STAGING DETAILS: 08-21-19 \nStaging Time: 10:00 am\n \nWillamette National Cemetery\n11800 SE Mt Scott Blvd\nPortland\, Oregon 97086\n\n\nRide Captain: \nMarty Jouett\nmartyjouett@yahoo.com\n\n\nSpecial Instructions: \nBriefing: 10:20 am\nKSU: 10:30 am\nFlagline Set: 10:45 am\nService Begins: 11:00 am\n\nMeet up top at the Rostrum by the flagpole.\nPlease enter the cemetery through Gate 1 or 3 as the normal gate is under construction.\n*** There will be an RHG if possible ***\n\n\nFlags & Water:\n\n\nFlags will not be provided\nIf you have large bike flags\, please bring them.\nWater WILL NOT be provided\, please bring your own.\n\n\nSubmitted By: John Hanan II \nPosition: Oregon State Captain \n\nNote: You do not have to own/ride a motorcycle or be a veteran to join\, and membership is Free. The only requirement is RESPECT! To subscribe to receive mission notices\, log into the National Site and click on the Members tab at the top. Select the Subscribe to PGR Missions option.\n Print This Page
URL:https://www.patriotguard.org/mission/merle-monty-penwell/
CATEGORIES:Honor Mission
END:VEVENT
END:VCALENDAR