BEGIN:VCALENDAR
VERSION:2.0
PRODID:-//Patriot Guard Riders - ECPv5.6.0//NONSGML v1.0//EN
CALSCALE:GREGORIAN
METHOD:PUBLISH
X-WR-CALNAME:Patriot Guard Riders
X-ORIGINAL-URL:https://www.patriotguard.org
X-WR-CALDESC:Events for Patriot Guard Riders
BEGIN:VTIMEZONE
TZID:America/New_York
BEGIN:DAYLIGHT
TZOFFSETFROM:-0500
TZOFFSETTO:-0400
TZNAME:EDT
DTSTART:20150308T070000
END:DAYLIGHT
BEGIN:STANDARD
TZOFFSETFROM:-0400
TZOFFSETTO:-0500
TZNAME:EST
DTSTART:20151101T060000
END:STANDARD
END:VTIMEZONE
BEGIN:VEVENT
DTSTART;TZID=America/New_York:20150306T090000
DTEND;TZID=America/New_York:20150306T110000
DTSTAMP:20210513T221147
CREATED:20150306T140000Z
LAST-MODIFIED:20191201T130113Z
UID:396429-1425632400-1425639600@www.patriotguard.org
SUMMARY:Merle E. Miller\, USAAC\, WWII
DESCRIPTION:*** Honor Mission***\n\n\n\n\nMerle E Miller\n\n\n\n\nU.S. Army Air        Corps / IANG        Ret.\n\n\n\n\nWW II Veteran\n\n\n\n\nFairfield\, Iowa\n\n\n\n\nMarch  6\,  2015\n\n\n\n\n \n\n\n\n  \nThe family of Merle Miller has asked        the Patriot        Guard to show honor and respect for Merle\, who served in the U.S        Army Air Corps        during WWII. He retired from the Iowa Army National Guard. \n \n \n \nRally Time:    9:00 AM.           Friday March 6\, 2015  \nBriefing:         9:15        AM.\nFlag Line:      9:30        AM.\n \nRally point:    Raymond Funeral Home \n112 West Burlington Ave. \nFairfield\, IA 52556\n \nhttps://goo.gl/maps/s8mZA \nService:\nRaymond Funeral Home\n10:30        AM  \nInterment:       Evergreen        Cemetery\n \nhttps://goo.gl/maps/aOyLy\n \nRide Captain: \nBob Lohrman\nrclohrmanjr@q.com\n515-491-0817\n \n \nPosted By:\nJim Clark\nAsst. State Captain
URL:https://www.patriotguard.org/mission/merle-e-miller-usaac-wwii/
CATEGORIES:Archive
END:VEVENT
END:VCALENDAR