BEGIN:VCALENDAR
VERSION:2.0
PRODID:-//Patriot Guard Riders - ECPv5.3.2.1//NONSGML v1.0//EN
CALSCALE:GREGORIAN
METHOD:PUBLISH
X-WR-CALNAME:Patriot Guard Riders
X-ORIGINAL-URL:https://www.patriotguard.org
X-WR-CALDESC:Events for Patriot Guard Riders
BEGIN:VTIMEZONE
TZID:America/New_York
BEGIN:DAYLIGHT
TZOFFSETFROM:-0500
TZOFFSETTO:-0400
TZNAME:EDT
DTSTART:20190310T070000
END:DAYLIGHT
BEGIN:STANDARD
TZOFFSETFROM:-0400
TZOFFSETTO:-0500
TZNAME:EST
DTSTART:20191103T060000
END:STANDARD
END:VTIMEZONE
BEGIN:VEVENT
DTSTART;VALUE=DATE:20190710
DTEND;VALUE=DATE:20190711
DTSTAMP:20210404T020813
CREATED:20190708T153444Z
LAST-MODIFIED:20190708T153444Z
UID:166544-1562716800-1562803199@www.patriotguard.org
SUMMARY:Memorial Walls Escort
DESCRIPTION:HOTH Mission\nMemorial Walls Escort\n–\nMULTI-CITY\, Michigan – 07-10-19\n\n\n\nABOUT THE MISSION: \nThe Patriot Guard Riders have been invited to escort four Memorial Walls from Dundee\, Mi to Howell\, Mi. The walls being escorted are WWII Memorial Wall\, Korean Memorial Wall\, Eyes of Michigan Freedom Memorial and Michigan Memorial Wall. The escort will be led by Law Enforcement with Patriot Guard behind LEO. This will be a rain or shine ride.\n\n\nPRIMARY STAGING DETAILS: 07-10-19 \nStaging Time: 12:00 PM\n \nSplash Universe Water Park\n100 White Tail Drive\nDundee\, Michigan 48131\nMap\n\n\nRide Captain: \n“Viper”\n586-873-5096\nkta422@hotmail.com\n\n\nSpecial Instructions: \nBrief: Prior to departure\nKSU: 2:00 PM\nAsst. Ride Captains: Traveler\, 248-496-9107\, Boz\, 586-899-0578\, Skeeter\, 586-524-8-83\, Doc\, 248-854-0329.\nThere will be no 3′ X 5′ American Flags required.\nBike flags if flown must withstand 60 MPH speeds.\nArrive with a full tank of gas (Escort is 65 Miles\, 1 1/2 hours).\nBikes will be parked as they arrive\, if you want to ride together then arrive together. Once parked that is where you stay!!!\n\n\nFlags & Water:\nFlags will not be provided\nLarge Bike Flags will NOT be needed.\nWater WILL NOT be provided\, please bring your own.\n\nSTAGING #2 DETAILS: 07-10-19 \nStaging Time: 2:45 PM\n \nAmerican Legion Post 141\n3265 W. Grand River Ave\nHowell\, Michigan 48855\nMap\n\n\nRide Captain: \nBubba\n734-658-0995\n\n\nSpecial Instructions: \nBrief: 3:00 PM\nF/L: Approximately 3:30 PM\nAdditional Ride Captain Vito\, 586-909-6901.\nBring your 3′ X 5′ American Flags\nMight want to bring a lawn chair or two if driving.\nBubba will have some water\n\n\nFlags & Water:\nFlags will not be provided\nLarge Bike Flags will NOT be needed.\nWater will be provided.\n\n\n\nSubmitted By: Kenneth Talant \nPosition: Michigan Assistant State Captain \n\nNote: You do not have to own/ride a motorcycle or be a veteran to join\, and membership is Free. The only requirement is RESPECT! To subscribe to receive mission notices\, log into the National Site and click on the Members tab at the top. Select the Subscribe to PGR Missions option.\n Print This Page
URL:https://www.patriotguard.org/mission/memorial-walls-escort/
CATEGORIES:HOTH Mission
END:VEVENT
END:VCALENDAR