BEGIN:VCALENDAR
VERSION:2.0
PRODID:-//Patriot Guard Riders - ECPv5.6.0//NONSGML v1.0//EN
CALSCALE:GREGORIAN
METHOD:PUBLISH
X-WR-CALNAME:Patriot Guard Riders
X-ORIGINAL-URL:https://www.patriotguard.org
X-WR-CALDESC:Events for Patriot Guard Riders
BEGIN:VTIMEZONE
TZID:America/New_York
BEGIN:DAYLIGHT
TZOFFSETFROM:-0500
TZOFFSETTO:-0400
TZNAME:EDT
DTSTART:20160313T070000
END:DAYLIGHT
BEGIN:STANDARD
TZOFFSETFROM:-0400
TZOFFSETTO:-0500
TZNAME:EST
DTSTART:20161106T060000
END:STANDARD
END:VTIMEZONE
BEGIN:VEVENT
DTSTART;TZID=America/New_York:20160716T090000
DTEND;TZID=America/New_York:20160716T110000
DTSTAMP:20210512T145340
CREATED:20160716T130000Z
LAST-MODIFIED:20191201T153636Z
UID:415301-1468659600-1468666800@www.patriotguard.org
SUMMARY:Memorial - USN MIA James Monroe Wooten
DESCRIPTION:US NAVY MIA JAMES MONROE WOOTEN JR\nMORGAN\, GA. 16 JULY 2016\n\n\n\nRay Humphreys\, Commander\, American Legion Post #335\, Sylvester\, Ga\, has invited the Patriot Guard Riders\, on behalf of the Family of US Navy MIA Hospital Apprentice 1st Class James Monroe Wooten\, Jr. (1900-1921) to participate in a MIA Honor Ceremony in Morgan Ga. this Saturday\, 16 July 2016. The Ceremony will take place on the site that the Wooten Family placed a Memorial on his behalf in the Morgan Methodist Cemetery. \nHospital Apprentice 1st Class James Monroe Wooten\, Jr. was declared MIA\, along with 55 of his Crew Mates after leaving San Francisco en-route to Pearl Harbor on board the US Navy Tug\, USS Conestoga\, 25 March 1921. The USS Conestoga was located on sonar\, 23 March 2016\, two days short of being MIA 95 years\, within the waters of Greater Farallones National Marine Sanctuary in California. \nMembers of AM Post #335 plan to give a short speech about James Wooten followed by a 21-gun salute\, Taps and the folding and presentation of the flag.  They also plan to bring a mid-ships bell off a navy ship. The names of all the 56 souls lost that tragic day will be read and the bell will toll in honor of each.  US Navy & area Officials have been invited to take part. The Ceremony will also be attended by the surviving Family Members that have been located. The Ceremony is expected to last about one hour. \nThe Patriot Guard Riders attending will stand a Flag Line throughout the Ceremony in honor of those that were lost. \nAmerican Legion Post #335 will provides the 3X5 American Flags to be held by the Patriot Guard Riders in our Flag Line this Saturday as well as providing cold water for all that attend. \nThomasville\, Ga. Staging at 07:45am\, Suzy Q’s\, (BP Station) corner of US 19N & County Line Rd just north of Thomasville. KSU 08:00 SHARP! \nMorgan\, Ga. Staging at 09:30am\, Morgan Methodist Cemetery\, corner Hwy 37 & Church Road on the right as you enter Morgan from the south on Hwy 37\, where we will go over the mission statement prior to setting our Flag Line. \nRCIC\nHarry “Bantam” Trawick\n229-224-4954\nharrytrawick@gmail.com
URL:https://www.patriotguard.org/mission/memorial-usn-mia-james-monroe-wooten/
END:VEVENT
END:VCALENDAR