BEGIN:VCALENDAR
VERSION:2.0
PRODID:-//Patriot Guard Riders - ECPv5.6.0//NONSGML v1.0//EN
CALSCALE:GREGORIAN
METHOD:PUBLISH
X-WR-CALNAME:Patriot Guard Riders
X-ORIGINAL-URL:https://www.patriotguard.org
X-WR-CALDESC:Events for Patriot Guard Riders
BEGIN:VTIMEZONE
TZID:America/New_York
BEGIN:DAYLIGHT
TZOFFSETFROM:-0500
TZOFFSETTO:-0400
TZNAME:EDT
DTSTART:20160313T070000
END:DAYLIGHT
BEGIN:STANDARD
TZOFFSETFROM:-0400
TZOFFSETTO:-0500
TZNAME:EST
DTSTART:20161106T060000
END:STANDARD
END:VTIMEZONE
BEGIN:VEVENT
DTSTART;TZID=America/New_York:20160630T090000
DTEND;TZID=America/New_York:20160630T110000
DTSTAMP:20210512T224925
CREATED:20160630T130000Z
LAST-MODIFIED:20191201T153639Z
UID:415306-1467277200-1467284400@www.patriotguard.org
SUMMARY:Memorial - The Wall That Heals Escort / Bluffdale
DESCRIPTION:The Wall That Heals Escort\n½ Scale Vietnam Wall \n\n\nThe Patriot Guard Riders have been requested to escort “The Wall That Heals” from Lehi to West Valley. \nThis will be an escort only. The escort will take place at Camp Williams on 17800 S Redwood Rd in Bluffdale at 9:30 AM on Thursday\, June 30\, 2016. We will escort “The Wall That Heals” from Camp Williams to Centennial Park on 5405 W 3100 S in West Valley City. This will be a slow “parade” style\, without the stopping and starting\, escort so be prepared to be in the sun for a long while. We will then have the opportunity to help assemble the wall. \nThe ride captains for this mission will be:\nMont Hardcastle and he can be reached at: 801-819-2158.\n                                                                                Arnold Casey and he can be reached at :801-842-9374. \nStaging: 8:45 AM at Camp Williams\, 17800 S Redwood Rd\, Bluffdale.\nKSU: 9:15 AM  \n**If you don’t make it to staging before KSU you will not be allowed to ride in the escort.** \n**You will need a helmet and ID to get onto the base\, so please be sure to have them. NO ONE WILL BE ADMITTED WITHOUT A HELMET AND IDENTIFICATION.** \nWeather: Partly cloudy with a high of 90. Please dress accordingly and keep yourself hydrated.
URL:https://www.patriotguard.org/mission/memorial-the-wall-that-heals-escort-bluffdale/
CATEGORIES:Archive
END:VEVENT
END:VCALENDAR