BEGIN:VCALENDAR
VERSION:2.0
PRODID:-//Patriot Guard Riders - ECPv5.3.2.1//NONSGML v1.0//EN
CALSCALE:GREGORIAN
METHOD:PUBLISH
X-WR-CALNAME:Patriot Guard Riders
X-ORIGINAL-URL:https://www.patriotguard.org
X-WR-CALDESC:Events for Patriot Guard Riders
BEGIN:VTIMEZONE
TZID:America/New_York
BEGIN:DAYLIGHT
TZOFFSETFROM:-0500
TZOFFSETTO:-0400
TZNAME:EDT
DTSTART:20140309T070000
END:DAYLIGHT
BEGIN:STANDARD
TZOFFSETFROM:-0400
TZOFFSETTO:-0500
TZNAME:EST
DTSTART:20141102T060000
END:STANDARD
END:VTIMEZONE
BEGIN:VEVENT
DTSTART;TZID=America/New_York:20141220T090000
DTEND;TZID=America/New_York:20141220T110000
DTSTAMP:20210403T023717
CREATED:20141220T140000Z
LAST-MODIFIED:20191201T121959Z
UID:388875-1419066000-1419073200@www.patriotguard.org
SUMMARY:Memorial - SP4 Billy Ray Sargent\, 20
DESCRIPTION:MEMORIAL MISSION\n\n\n\n\nSP/4 Billy Ray Sargent\, 20\n\n\n\n\nRECON PLT\, E CO\, 1ST BN\, 52 INFANTRY BDE\, AMERICAL DIV\, USARV\n\n\n\n\nCasualty of the Vietnam War\n\n\n\n\nDied 20 June 1970 Quang Ngai Province\, South Vietnam\n\n\n\n\n[ATTACH=CONFIG]2544[/ATTACH]\n\n\n\n\n\n\nStaging Location:\nWendy’s Restaurant \n6330 State Rt. 128\nMiamitown\, OH 45041\nStaging: 20 December 2014@1200hrs-(12 PM) \n\nLocation for Memorial Ceremony:\nSouthwest Ohio Conservation Club\n6084 Morgan Rd\nCleves\, Ohio 45002\n20 December 2014@ 1300hrs-(1 PM) \n Click on Full Profile SP/4 Sargent:       http://www.virtualwall.org/ds/SargentBR01a.htm \n \nWe are very pleased and feel privileged to be chosen for this Memorial Mission. We are excited to make this happen before Christmas. \n\n\nOn Behalf of a Grateful America and the Ohio Patriot Guard\n\n\n\n\nPlease accept our sincere condolences on your tragic loss\n\n\n\n\nMay your pain be tempered with the knowledge that\n\n\n\n\nSP/4 Billy Ray Sargent Casualty of the\n\n\n\n\nVietnam War is a True American Hero\n\n\nAssistant State Captain Mike Hamilton and State Captain Bob Woods are co-captains on this mission.\nI am asking everyone to post a condolence on the national site. We would like to have a great number of them. Thank you and dress per the weather conditions. Use your own judgment on how you get safely to and from the mission. Mike email: mayorham@cinci.rr.com  Bob’s email: OHSC@patriotguard.org  \nBob Woods OHSC
URL:https://www.patriotguard.org/mission/memorial-sp4-billy-ray-sargent-20/
CATEGORIES:Archive
END:VEVENT
END:VCALENDAR