BEGIN:VCALENDAR
VERSION:2.0
PRODID:-//Patriot Guard Riders - ECPv5.3.2.1//NONSGML v1.0//EN
CALSCALE:GREGORIAN
METHOD:PUBLISH
X-WR-CALNAME:Patriot Guard Riders
X-ORIGINAL-URL:https://www.patriotguard.org
X-WR-CALDESC:Events for Patriot Guard Riders
BEGIN:VTIMEZONE
TZID:America/New_York
BEGIN:DAYLIGHT
TZOFFSETFROM:-0500
TZOFFSETTO:-0400
TZNAME:EDT
DTSTART:20190310T070000
END:DAYLIGHT
BEGIN:STANDARD
TZOFFSETFROM:-0400
TZOFFSETTO:-0500
TZNAME:EST
DTSTART:20191103T060000
END:STANDARD
END:VTIMEZONE
BEGIN:VEVENT
DTSTART;VALUE=DATE:20190720
DTEND;VALUE=DATE:20190721
DTSTAMP:20210403T194620
CREATED:20190718T200349Z
LAST-MODIFIED:20190718T200625Z
UID:167772-1563580800-1563667199@www.patriotguard.org
SUMMARY:Memorial Service Police K-9 Officer Maverick
DESCRIPTION:HOTH Mission\nMemorial Service Police K-9 Officer Maverick\nSouth Lyon\, Michigan – 07-20-19\n\n\n\nABOUT THE MISSION: \nThe Patriot Guard Riders have been invited to stand in Honor of Police K-9 Officer Maverick\, Badge #74\, 10/03/06 – 01/29/19. K-9 Officer Maverick – 11 years of age\, provided 10 years of service to the Redford Twp. Police Department. K-9 Maverick\, the most popular K-9 officer in the Redford Township Police Department\, retired from police work in early October 2018.  In fact\, the first week of October of 2018 was pretty busy for him.  He celebrated 10 years of service to Redford Township Police Department on October 1st\, turned 11 years old on the 3rd\, and officially retired after the Thurston High School Homecoming game against Redford Union on October 6th.  K-9 Officer Maverick put his life on the line to protect Officers and others.  K-9 Maverick had over 1500 documented canine uses in his 10 year career\, including finding suspects\, sniffing out narcotics\, assisting neighboring communities and protecting his partner\, Officer Sgt. Jennifer Mansfield\, as well as the citizens of Redford Twp.\n\n\nPRIMARY STAGING DETAILS: 07-20-19 \nStaging: 10:45 AM\n \nMichigan War Dog Memorial\n25805 Milford Rd.\nSouth Lyon\, Michigan 48178\nhttps://goo.gl/maps/cCd8KWWDY4RB7KiMA\n\n\nRide Captain: \nBoz\n586-899-0518\nbjimbugme@att.net\n\n\nSpecial Instructions: \nBriefing: 11:15 AM\nFlag-line: 11:45 AM\nService: 12:00 PM\, Parking for motorcycle’s will be on the sidewalk\, past the parking lot\, toward Milford Road. Follow any directions by person at main driveway entrance.  Service starts promptly at 12 noon.Please bring your 3′ x 5′ American Flag to Stand in Honor of Police K-9 Maverick’s Service to the community of Redford Township.\n\n\nFlags & Water:\nFlags will not be provided\nLarge Bike Flags will NOT be needed.\nWater WILL NOT be provided\, please bring your own.\n\nSubmitted By: Terrence Laurencelle \nPosition: Michigan Ride Captain \n\nNote: You do not have to own/ride a motorcycle or be a veteran to join\, and membership is Free. The only requirement is RESPECT! To subscribe to receive mission notices\, log into the National Site and click on the Members tab at the top. Select the Subscribe to PGR Missions option.\n Print This Page
URL:https://www.patriotguard.org/mission/memorial-service-police-k-9-officer-maverick/
CATEGORIES:HOTH Mission
END:VEVENT
END:VCALENDAR