BEGIN:VCALENDAR
VERSION:2.0
PRODID:-//Patriot Guard Riders - ECPv5.3.2.1//NONSGML v1.0//EN
CALSCALE:GREGORIAN
METHOD:PUBLISH
X-WR-CALNAME:Patriot Guard Riders
X-ORIGINAL-URL:https://www.patriotguard.org
X-WR-CALDESC:Events for Patriot Guard Riders
BEGIN:VTIMEZONE
TZID:America/New_York
BEGIN:DAYLIGHT
TZOFFSETFROM:-0500
TZOFFSETTO:-0400
TZNAME:EDT
DTSTART:20190310T070000
END:DAYLIGHT
BEGIN:STANDARD
TZOFFSETFROM:-0400
TZOFFSETTO:-0500
TZNAME:EST
DTSTART:20191103T060000
END:STANDARD
END:VTIMEZONE
BEGIN:VEVENT
DTSTART;VALUE=DATE:20190907
DTEND;VALUE=DATE:20190908
DTSTAMP:20210401T120443
CREATED:20190903T011314Z
LAST-MODIFIED:20190903T011314Z
UID:172433-1567814400-1567900799@www.patriotguard.org
SUMMARY:Memorial Service - Police K-9 BUZZ
DESCRIPTION:Memorial\nMemorial Service – Police K-9 BUZZ\n–\nSouth Lyon\, Michigan – 09-07-19\n\n\n\nABOUT THE MISSION: \nThe Patriot Guard Riders have been invited to stand in Honor of Police K-9 Officer BUZZ. K-9 Officer Buzz – approximately 11 years of age\, had 10 years of service with the St. Joseph County Sheriff’s Department\, Michigan. K-9 Buzz\, a Chocolate Labrador Retriever\, was born April 06 2008 at Auburn University’s Canine Detection Training Center (AL) and then spent a year in the Auburn Dog Prison Program in Florida. At 14 months old\, he became a member of the St. Joseph County Sheriff’s Department with partner and friend\, Special Deputy/Forensic K-9 handler Sue Stejskal. The team provided service as a human remains detector (HRD) or cadaver dog team for almost 10 years throughout the Midwest\, US and Ontario\, working on both land and water recoveries and cases. K-9 BUZZ died March 26 of this year. Please come and stand for this Fallen K-9 Officer that gave his all to save others and recover the ones that were missing.\n\n\nPRIMARY STAGING DETAILS: 09-07-19 \nStaging Time: 10:45 AM\n \nMichigan War Dog Memorial\n25805 Milford Rd.\nSouth Lyon\, Michigan 48178\nMap\n\n\nRide Captain: \nBoz – 586-899-0518\nbjimbugme@att.net\n\n\nSpecial Instructions: \nBriefing: 11:15 AM\nFlag Line: 11:45 AM\nService: Noon\nPlease bring your 3’ x 5’ American Flag to Stand in Honor of K-9 Officer Buzz.\nParking for Motorcycle will be on sidewalk pass the parking lot toward Milford Rd.\nFollow any directions by person at main driveway Entrance.\n\n\nFlags & Water:\nFlags will not be provided\nLarge Bike Flags will NOT be needed.\nWater WILL NOT be provided\, please bring your own.\n\n\n\nSubmitted By: Terrence Laurencelle \nPosition: Michigan Ride Captain \n\nNote: You do not have to own/ride a motorcycle or be a veteran to join\, and membership is Free. The only requirement is RESPECT! To subscribe to receive mission notices\, log into the National Site and click on the Members tab at the top. Select the Subscribe to PGR Missions option.\n Print This Page
URL:https://www.patriotguard.org/mission/memorial-service-police-k-9-buzz/
CATEGORIES:Memorial
END:VEVENT
END:VCALENDAR