BEGIN:VCALENDAR
VERSION:2.0
PRODID:-//Patriot Guard Riders - ECPv5.3.2.1//NONSGML v1.0//EN
CALSCALE:GREGORIAN
METHOD:PUBLISH
X-WR-CALNAME:Patriot Guard Riders
X-ORIGINAL-URL:https://www.patriotguard.org
X-WR-CALDESC:Events for Patriot Guard Riders
BEGIN:VTIMEZONE
TZID:America/New_York
BEGIN:DAYLIGHT
TZOFFSETFROM:-0500
TZOFFSETTO:-0400
TZNAME:EDT
DTSTART:20170312T070000
END:DAYLIGHT
BEGIN:STANDARD
TZOFFSETFROM:-0400
TZOFFSETTO:-0500
TZNAME:EST
DTSTART:20171105T060000
END:STANDARD
END:VTIMEZONE
BEGIN:VEVENT
DTSTART;TZID=America/New_York:20170826T083000
DTEND;TZID=America/New_York:20170826T103000
DTSTAMP:20210401T221028
CREATED:20170826T123000Z
LAST-MODIFIED:20191201T031550Z
UID:319744-1503736200-1503743400@www.patriotguard.org
SUMMARY:Memorial Ride - Owen Stuckey Memorial Ride\, PGR
DESCRIPTION:Owen Stuckey Memorial Ride\nMorris\, Illinois – 26 Aug 2017\n\n\n\n[HR][/HR]\nABOUT THE MISSION: \n\nIt is time once again to ride in honor of RC Owen Stuckey\, it has been 6 years since we lost Owen\, but his memory lives on. \nWe will be asking a $20 donation for each vehicle\, with all proceeds  going to The Royal Family Kids Camp\, for underprivileged kids. \nLast year we raised over $1\,500 for the kids.  Great job for all who contributed. \nWe will leave Morris American Legion Post at 0930 hrs. and make a  relaxing ride through the country before our first stop at the Bridge.   The complete route will be given at the mission brief.  This is about a  120 mile ride so have your fuel tank full. \nMake sure all flags are secure; we will be traveling at highway speeds. \nA special thank you to the Morris Legion Riders Post 294\, 212 W Washington St.\, Morris\, IL.\n \n\nPRIMARY STAGING DETAILS:  26 Aug 2017\nPrimary Staging Time: 8:30 A.M. \n\nMorris American Legion Post 294\n212 W Washington St\nMorris\, Illinois –\n\n\nRide Captain: \n\nMike Stuckey\n815-735-0637 \nmjs@csky.net\n\n\nSpecial Instructions: \n\nSTAGE\, MISSION BRIEF and SIGNUP:  0830hrs to 0900hrs\nKSU:   0930hrs\n\n\nFlags & Water: \n\nFlags Will Not Be Needed\nIf you have large bike flags\, please bring them.\nWater WILL NOT be provided\, please bring your own.\n\n\nSubmitted By: David Gier\nPosition: Ride Captain \n[HR][/HR]Note:\nYou do not have to own/ride a motorcycle or be a Veteran to join and membership is Free. The only requirement is RESPECT! To join\, simply go to www.PatriotGuard.org and click on Register. Membership is Free. \nTo subscribe to receive mission notices\, log into the National Site and click on the Mission Tab at the top. Select the Subscribe to Missions option.
URL:https://www.patriotguard.org/mission/memorial-ride-owen-stuckey-memorial-ride-pgr/
LOCATION:Howard Wayne Haggard
END:VEVENT
END:VCALENDAR