BEGIN:VCALENDAR
VERSION:2.0
PRODID:-//Patriot Guard Riders - ECPv5.6.0//NONSGML v1.0//EN
CALSCALE:GREGORIAN
METHOD:PUBLISH
X-WR-CALNAME:Patriot Guard Riders
X-ORIGINAL-URL:https://www.patriotguard.org
X-WR-CALDESC:Events for Patriot Guard Riders
BEGIN:VTIMEZONE
TZID:America/New_York
BEGIN:DAYLIGHT
TZOFFSETFROM:-0500
TZOFFSETTO:-0400
TZNAME:EDT
DTSTART:20080309T070000
END:DAYLIGHT
BEGIN:STANDARD
TZOFFSETFROM:-0400
TZOFFSETTO:-0500
TZNAME:EST
DTSTART:20081102T060000
END:STANDARD
END:VTIMEZONE
BEGIN:VEVENT
DTSTART;TZID=America/New_York:20080531T090000
DTEND;TZID=America/New_York:20080531T110000
DTSTAMP:20210513T213842
CREATED:20080531T130000Z
LAST-MODIFIED:20191201T113951Z
UID:381552-1212224400-1212231600@www.patriotguard.org
SUMMARY:Memorial - PFC Matthew A. Bean\, Island Dedication
DESCRIPTION:Dedication for Pfc. Matthew A. Bean ~ Pembroke\, MA\, 31 May 08 \nIsland  Dedication for Pfc. Matthew A. Bean ~ Pembroke\, MA\, 31\, May \,08 \n\nThe Patriot Guard Riders have been invited to an Island dedication on Saturday  5/31/08 at 3 PM in Pembroke\, MA for the late Army PFC. Matthew Alan Bean \nArmy Pfc. Matthew A. Bean 22\, of Pembroke\, Mass.; assigned to the 2nd Battalion\, 15th Field Artillery Regiment\, 2nd Brigade Combat Team\, 10th Mountain Division (Light Infantry)\, Fort Drum\, N.Y.; died May 31\, 2007\, at the National Naval Medical Center\, Bethesda\, Md.\, of wounds sustained on May 19\, 2007 in Lutifiyah\, Iraq\, when he was struck by enemy small-arms fire\, while searching for a fellow Massachusetts soldier and two other soldiers.\nSpc. Alex R. Jimenez\, 25\, of Lawrence\, and two comrades have been missing since a May 12\, 2007\, ambush about 20 miles outside Baghdad. The body of one of the three\, Pfc. Joseph Anzack Jr.\, 20\, of Torrance\, Calif.\, was found May 22\, 2007\,\nBean underwent surgery in Germany and was flown to the U.S. on May 23\, 2007.\nHe died on May 31\, 2007. \n\nDate:Saturday May 31\, 2008\nTime: 3:00 PM\nStaging: 2:00 PM\nBriefing 2:30 PM\nKSU Sharp  at 2:40 PM\nPolice Escort \nPembroke  LOWES Parking Lot\n108 Old Church St\nPembroke\, MA 02359 \n\nThe Ride Captain for this mission is:\n\nChiefskid  (navybratprcs@aol.com)\nKen Roy Jr\nRide Captain\nPatritot Guard Riders\nRide Safe \n\n(Exit 12 off Route 3 southeast expressway) take left at end off ramp coming from North and right coming from South \nhttp://www.mapquest.com/maps/lowes:pembroke+ma/#a/maps/l:Lowe’s:108+Old+Church+St:Pembroke:MA:02359:US:42.108822:-70.771124:address:/m::12:42.108822:-70.771124:0:0:/io:0:::::f:EN:M:/e \n******Note : Roads will be shut down to traffic so late arrivals will not be allowed in*****\n\n\n\n\nPage 8 Appreciation Letters From Dana Bean\n\n6/6/07\nMy wife & I wish to thank the Patriot Guard Riders for your support.  I read the many letters on your website & we have been proud to have your escort.  Clearly our son\, Pfc.Matthew Bean\, was able to “complete the mission” that God sent him here for in just 22 years.  I wish I could claim such success!  Perhaps our heavenly reward as parents is that we allowed God to use us to help shape Matthew into a young man who loved & honored his Lord\, country\, & family.  He was a gift to all that knew him.  No father could be more proud of how he lived & died!  Now\, because of the shedding of Christ’s blood\, Matthew is with our Lord.  “Thank you Lord for lending us Matthew!”\nGod’s Son…& mine died for you! \nDana Bean\nProud Army Dad \nRichard J. Keniston\nNew England Regional Captain\nPatriot Guard Riders
URL:https://www.patriotguard.org/mission/memorial-pfc-matthew-a-bean-island-dedication/
CATEGORIES:Archive
END:VEVENT
END:VCALENDAR