BEGIN:VCALENDAR
VERSION:2.0
PRODID:-//Patriot Guard Riders - ECPv5.3.2.1//NONSGML v1.0//EN
CALSCALE:GREGORIAN
METHOD:PUBLISH
X-WR-CALNAME:Patriot Guard Riders
X-ORIGINAL-URL:https://www.patriotguard.org
X-WR-CALDESC:Events for Patriot Guard Riders
BEGIN:VTIMEZONE
TZID:America/New_York
BEGIN:DAYLIGHT
TZOFFSETFROM:-0500
TZOFFSETTO:-0400
TZNAME:EDT
DTSTART:20160313T070000
END:DAYLIGHT
BEGIN:STANDARD
TZOFFSETFROM:-0400
TZOFFSETTO:-0500
TZNAME:EST
DTSTART:20161106T060000
END:STANDARD
END:VTIMEZONE
BEGIN:VEVENT
DTSTART;TZID=America/New_York:20160514T090000
DTEND;TZID=America/New_York:20160514T110000
DTSTAMP:20210404T164648
CREATED:20160514T130000Z
LAST-MODIFIED:20191201T153709Z
UID:415354-1463216400-1463223600@www.patriotguard.org
SUMMARY:Memorial - John W. Krause\, USMC
DESCRIPTION:Special Honor Mission for a Memorial Service for  John W. Krause\, Lcpl\, US Marine Corps\, who served Honorably from 1969 to  1972 as a Rifleman. He was awarded the National Defense Service Medal\,  the Vietnam Service Medal with 1 Device\, the Vietnam Campaign Medal  with 1 Device. Lcpl Krause passed  away on 12 April 2016 in Tulsa\, OK\, where his funeral with Military  Honors was held\, with the Patriot Guard Riders present. Local family  members were unable to attend and are holding a Memorial Service in  Bethel on Saturday\, 14 May 2016. We have been asked to stand a Flag Line  for the service. The Marine Honor Guard has 3 other funerals to attend  and are unavailable. \nState  Captain Mac McArthur will be RCIC and have Flags on site. This Mission  is the same time as the Mission in Putnam. People in the Western side of  Connecticut are asked to attend the Bethel Mission if possible. \nSTAGE:\n0900 HRS (9:00 AM)\, Saturday\, 14 May 2016\nWalnut Hill Community Church\n156 Walnut Hill Road\nBethel\, CT 06801 \nRegards\, \nMAC MCARTHUR\nSTATE CAPTAIN\nstatecaptain@ctpatriotguard.org\nCell:860-682-7625\nFax: 860-345-3654
URL:https://www.patriotguard.org/mission/memorial-john-w-krause-usmc/
CATEGORIES:Archive
END:VEVENT
END:VCALENDAR