BEGIN:VCALENDAR
VERSION:2.0
PRODID:-//Patriot Guard Riders - ECPv5.3.2.1//NONSGML v1.0//EN
CALSCALE:GREGORIAN
METHOD:PUBLISH
X-WR-CALNAME:Patriot Guard Riders
X-ORIGINAL-URL:https://www.patriotguard.org
X-WR-CALDESC:Events for Patriot Guard Riders
BEGIN:VTIMEZONE
TZID:America/New_York
BEGIN:DAYLIGHT
TZOFFSETFROM:-0500
TZOFFSETTO:-0400
TZNAME:EDT
DTSTART:20190310T070000
END:DAYLIGHT
BEGIN:STANDARD
TZOFFSETFROM:-0400
TZOFFSETTO:-0500
TZNAME:EST
DTSTART:20191103T060000
END:STANDARD
END:VTIMEZONE
BEGIN:VEVENT
DTSTART;VALUE=DATE:20190527
DTEND;VALUE=DATE:20190528
DTSTAMP:20210405T070335
CREATED:20190525T201008Z
LAST-MODIFIED:20190525T201008Z
UID:162392-1558915200-1559001599@www.patriotguard.org
SUMMARY:Memorial Day
DESCRIPTION:Memorial\nMemorial Day\nLake Worth\, Florida – 05-27-19\n\n\n\nABOUT THE MISSION: \nThe Patriot Guard Riders have been invited to support the Memorial Day activities at the Medicana Nursing and Rehab Center.\n\n\nPRIMARY STAGING DETAILS: 05-27-19 \nStaging Time: 1:30 pm  \nMedicana Nursing and Rehab Center\n1710 Lake Worth Rd.\nLake Worth\, Florida 33460\n\n\nRide Captain: \nRon “Hocky” Hochhauser\n           954-592-4847\n\n\nSpecial Instructions: \nBrief     –   1:40 pm\nService –  2:00 pm\n\n\nFlags & Water:\nFlags will not be provided.\nLarge Bike Flags will NOT be needed.\nWater WILL NOT be provided\, please bring your own. \n\n\n\nSubmitted By: Jeff Garten \nPosition: Florida Assistant State Captain \n\nNote: You do not have to own/ride a motorcycle or be a veteran to join\, and membership is Free. The only requirement is RESPECT! To subscribe to receive mission notices\, log into the National Site and click on the Members tab at the top. Select the Subscribe to PGR Missions option.\n Print This Page
URL:https://www.patriotguard.org/mission/memorial-day/
CATEGORIES:Memorial
END:VEVENT
END:VCALENDAR