BEGIN:VCALENDAR
VERSION:2.0
PRODID:-//Patriot Guard Riders - ECPv5.3.2.1//NONSGML v1.0//EN
CALSCALE:GREGORIAN
METHOD:PUBLISH
X-WR-CALNAME:Patriot Guard Riders
X-ORIGINAL-URL:https://www.patriotguard.org
X-WR-CALDESC:Events for Patriot Guard Riders
BEGIN:VTIMEZONE
TZID:America/New_York
BEGIN:DAYLIGHT
TZOFFSETFROM:-0500
TZOFFSETTO:-0400
TZNAME:EDT
DTSTART:20190310T070000
END:DAYLIGHT
BEGIN:STANDARD
TZOFFSETFROM:-0400
TZOFFSETTO:-0500
TZNAME:EST
DTSTART:20191103T060000
END:STANDARD
END:VTIMEZONE
BEGIN:VEVENT
DTSTART;VALUE=DATE:20190527
DTEND;VALUE=DATE:20190528
DTSTAMP:20210405T140204
CREATED:20190514T173048Z
LAST-MODIFIED:20190514T173048Z
UID:161027-1558915200-1559001599@www.patriotguard.org
SUMMARY:Memorial Day - We Remember
DESCRIPTION:Memorial\nMemorial Day – We Remember\n\nJacksonville\, Missouri – 05-27-19\n\n\n\n\nABOUT THE MISSION: \nThe Patriot Guard Riders have been invited to attend the Memorial Day – We Remember Service at Missouri Veterans Cemetery in Jacksonville.  Jim Nugent\, Director of Missouri Veterans Cemetery will be Guest Speaker.\n\n\nPRIMARY STAGING DETAILS: 05-27-19 \nStaging Time: 08:00 am \nMissouri Veterans Cemetery\n1479 County Road 1675\nJacksonville\, Missouri 65260\n\n\nRide Captain: \nJan Watts\n660-349-9134\nliltyke.2355@gmail.com\n\n\nSpecial Instructions: \nWe will park by the office\, to allow for more parking area for arriving family and guests.  Help prior to ceremony will be needed and appreciated.  Information will be given at staging time as to where help will be needed prior to forming a flag line.  Ceremony will last approximately 45 minutes.\n\nFlags & Water:\nFlags will be provided\nIf you have large bike flags\, please bring them.\nWater will be provided.\n\n\n\n\nSubmitted By: Jan Watts \nPosition: Missouri Ride Captain \n\nNote: You do not have to own/ride a motorcycle or be a veteran to join\, and membership is Free. The only requirement is RESPECT! To subscribe to receive mission notices\, log into the National Site and click on the Members tab at the top. Select the Subscribe to PGR Missions option.\n Print This Page
URL:https://www.patriotguard.org/mission/memorial-day-we-remember/
CATEGORIES:Memorial
END:VEVENT
END:VCALENDAR