BEGIN:VCALENDAR
VERSION:2.0
PRODID:-//Patriot Guard Riders - ECPv5.3.2.1//NONSGML v1.0//EN
CALSCALE:GREGORIAN
METHOD:PUBLISH
X-WR-CALNAME:Patriot Guard Riders
X-ORIGINAL-URL:https://www.patriotguard.org
X-WR-CALDESC:Events for Patriot Guard Riders
BEGIN:VTIMEZONE
TZID:America/New_York
BEGIN:DAYLIGHT
TZOFFSETFROM:-0500
TZOFFSETTO:-0400
TZNAME:EDT
DTSTART:20190310T070000
END:DAYLIGHT
BEGIN:STANDARD
TZOFFSETFROM:-0400
TZOFFSETTO:-0500
TZNAME:EST
DTSTART:20191103T060000
END:STANDARD
END:VTIMEZONE
BEGIN:VEVENT
DTSTART;VALUE=DATE:20190527
DTEND;VALUE=DATE:20190528
DTSTAMP:20210405T015943
CREATED:20190522T173920Z
LAST-MODIFIED:20190522T174123Z
UID:162113-1558915200-1559001599@www.patriotguard.org
SUMMARY:MEMORIAL DAY SERVICE-Missouri Veteran's Cemetery Springfield\, MO
DESCRIPTION:Memorial\nMemorial Day Service – Missouri Veteran’s Cemetery\nUSA USMC USN USAF USCG\, ANG\, USAR\, USMCR\, USNR\, ARNG\, USAFR\, USCGR\, ANC\, SPAR\, USMCWR\, WAAC\, WASP\, WAC\, WAVES\, USNNC – WWII\, Korea\, Lebanon/Grenada\, Panama\nSpringfield\, Missouri – 05-27-19\n\n\n\n\nABOUT THE MISSION: \nThe Missouri Veteran’s Commission and the Missouri Veteran’s Cemetery-Springfield has asked that the Patriot Guard Riders attend and participate in the honoring and remembrance of our veterans who lost their lives while serving our country at the Missouri Veteran’s Cemetery\, Springfield\, MO. We will be honoring all veterans who gave their life while serving in our armed forces.\n\n\nPRIMARY STAGING DETAILS: 05-27-19 \nStaging Time: 12:30 pm \nCommuter Parking Lot\nNW Corner of US 65 and Evans Rd.\nSpringfield\, Missouri\n\n\nRide Captain: \nKent McGregor\n(850) 544-6616\ncMcgregor.kent@gmail.com\n\n\nSpecial Instructions: \nSTAGE: 12:30 pm\nBRIEFING: 12:45 pm\nKSU:  1:00 pm to Missouri Veteran’s Cemetery. We will ride into MVC as a group\, park\, and assume a flag line during the approximately 45 minute service.\nFLAG LINE: 1:10 pm\nMVC PROGRAM/SERVICE: 1:30 pm\nWEATHER FORECAST:  78ˠ and 0% chance of precipitation.\n\nFlags & Water:\nFlags will be provided\nIf you have large bike flags\, please bring them.\nWater will be provided.\n\n\n\nSubmitted By: Kent McGregor \nPosition: Missouri Ride Captain \n\nNote: You do not have to own/ride a motorcycle or be a veteran to join\, and membership is Free. The only requirement is RESPECT! To subscribe to receive mission notices\, log into the National Site and click on the Members tab at the top. Select the Subscribe to PGR Missions option.\n Print This Page
URL:https://www.patriotguard.org/mission/memorial-day-service-missouri-veterans-cemetery-springfield-mo/
CATEGORIES:Memorial
END:VEVENT
END:VCALENDAR