BEGIN:VCALENDAR
VERSION:2.0
PRODID:-//Patriot Guard Riders - ECPv5.3.2.1//NONSGML v1.0//EN
CALSCALE:GREGORIAN
METHOD:PUBLISH
X-WR-CALNAME:Patriot Guard Riders
X-ORIGINAL-URL:https://www.patriotguard.org
X-WR-CALDESC:Events for Patriot Guard Riders
BEGIN:VTIMEZONE
TZID:America/New_York
BEGIN:DAYLIGHT
TZOFFSETFROM:-0500
TZOFFSETTO:-0400
TZNAME:EDT
DTSTART:20190310T070000
END:DAYLIGHT
BEGIN:STANDARD
TZOFFSETFROM:-0400
TZOFFSETTO:-0500
TZNAME:EST
DTSTART:20191103T060000
END:STANDARD
END:VTIMEZONE
BEGIN:VEVENT
DTSTART;VALUE=DATE:20190527
DTEND;VALUE=DATE:20190528
DTSTAMP:20210402T025222
CREATED:20190526T193451Z
LAST-MODIFIED:20190526T193451Z
UID:162280-1558915200-1559001599@www.patriotguard.org
SUMMARY:Memorial Day Service
DESCRIPTION:Memorial\nMemorial Day Service\nAppleton\, Wisconsin – 05-27-19\n\n\n Source: \n\nABOUT THE MISSION: \nMonday May 27th there will be a Memorial Day Service in Riverside Cemetery in Appleton following the conclusion of the Appleton Memorial Day Parade. We will stand a Circle of Comfort for this event.\n\n\nPRIMARY STAGING DETAILS: 05-27-19 \nStaging Time: 10:00 a.m. \nRiverside Cemetery\n714 N Owaissa St\nAppleton\, Wisconsin\n\n\nRide Captain: \nDick LaChapelle\nrglachapelle@sbcglobal.net\n\n\nSpecial Instructions: \nStage at the Flagpole Area in Riverside Cemetery which is located just West of the entrance from Riverside to St. Joseph’s Cemeteries.\n\n\nFlags & Water:\nFlags will be provided\nLarge Bike Flags will NOT be needed.\nWater WILL NOT be provided\, please bring your own.\n\n\n\nSubmitted By: John Curran \nPosition: Wisconsin State Captain \n\nNote: You do not have to own/ride a motorcycle or be a veteran to join\, and membership is Free. The only requirement is RESPECT! To subscribe to receive mission notices\, log into the National Site and click on the Members tab at the top. Select the Subscribe to PGR Missions option.\n Print This Page
URL:https://www.patriotguard.org/mission/memorial-day-service-10/
CATEGORIES:Memorial
END:VEVENT
END:VCALENDAR