BEGIN:VCALENDAR
VERSION:2.0
PRODID:-//Patriot Guard Riders - ECPv5.3.2.1//NONSGML v1.0//EN
CALSCALE:GREGORIAN
METHOD:PUBLISH
X-WR-CALNAME:Patriot Guard Riders
X-ORIGINAL-URL:https://www.patriotguard.org
X-WR-CALDESC:Events for Patriot Guard Riders
BEGIN:VTIMEZONE
TZID:America/New_York
BEGIN:DAYLIGHT
TZOFFSETFROM:-0500
TZOFFSETTO:-0400
TZNAME:EDT
DTSTART:20190310T070000
END:DAYLIGHT
BEGIN:STANDARD
TZOFFSETFROM:-0400
TZOFFSETTO:-0500
TZNAME:EST
DTSTART:20191103T060000
END:STANDARD
END:VTIMEZONE
BEGIN:VEVENT
DTSTART;VALUE=DATE:20190527
DTEND;VALUE=DATE:20190528
DTSTAMP:20210405T044638
CREATED:20190526T183611Z
LAST-MODIFIED:20190526T183611Z
UID:162451-1558915200-1559001599@www.patriotguard.org
SUMMARY:Memorial Day Remembrance Ceremony
DESCRIPTION:Memorial\nWichita County Memorial Day Remembrance Ceremony\nWitchita Falls\, Texas – 05-27-19\n\n\n\n\nABOUT THE MISSION: \nWe will be standing honors during the Memorial Day event.\n\n\nPRIMARY STAGING DETAILS: 05-27-19 \nStaging Time: 07:00 a.m. \nWichita County Cemetery\n999 30th Street\nWitchita Falls\, Texas 73032\n\n\nRide Captain: \nMike Johnson\nweldermike@aol.com\n(940) 224-2872\n\n\nSpecial Instructions: \nBriefing Time: 07:10 am\nIn Position/KSU Time: 07:45 am\nStarting Time: 08:00 am\n\nWe will place our static flags around the pavilion and the flag pole in the veterans’ section of the cemetery. We will then stand our honor line during the ceremony. Upon completion of the ceremony we will return our flags to the support vehicle and be dismissed.\n\nAssisting:  Barbara Johnson\, brbjo@aol.com\, (940) 642-5324\n\n\nFlags & Water:\nFlags will be provided\nLarge Bike Flags will NOT be needed.\nWater will be provided.\n\n\n\nSubmitted By: Dan Mathys \nPosition: Texas Ride Captain \n\nNote: You do not have to own/ride a motorcycle or be a veteran to join\, and membership is Free. The only requirement is RESPECT! To subscribe to receive mission notices\, log into the National Site and click on the Members tab at the top. Select the Subscribe to PGR Missions option.\n Print This Page
URL:https://www.patriotguard.org/mission/memorial-day-remembrance-ceremony-3/
CATEGORIES:Memorial
END:VEVENT
END:VCALENDAR